BEGIN:VCALENDAR
VERSION:2.0
PRODID:-//keepmassbeautiful.org//NONSGML kigkonsult.se iCalcreator 2.30.10/
 /
CALSCALE:GREGORIAN
METHOD:PUBLISH
UID:17130a2b-8a82-4eb5-b910-7a0b08219299
X-WR-CALDESC:Are you confused about what should go in your trash barrel and
  what should go in your recycling bin? \n \nJoin Keep Massachusetts Beauti
 ful\, Keep Shrewsbury Beautiful\, and the Shrewsbury DPW for a free Zoom p
 resentation and discussion of ways we can all reduce waste and improve rec
 ycling.\n\nThe Talking Trash & Recycling program is an interactive present
 ation that will teach you what really happens to your trash and recyclable
 s in Shrewsbury.  You will learn ways to reduce the amount of trash you ge
 nerate\, improve your recycling habits\, make small changes to lead a more
  sustainable lifestyle\, and help Shrewsbury achieve its solid waste reduc
 tion goals. We also provide an overview of MassDEP's RecycleSmartMA progra
 m.\n\nThis interactive program is delivered in approximately 45 minutes\, 
 with 15-30 additional minutes of questions and answers at the end.\n\nTo p
 articipate\, please click the Register Now button in the top right-hand co
 rner of this page to access the Zoom link.
X-WR-RELCALID:3d8148adf4565a75427ffd3bbbaf5ed2
X-WR-TIMEZONE:America/New_York
BEGIN:VTIMEZONE
TZID:America/New_York
BEGIN:STANDARD
TZNAME:EST
DTSTART:20211107T020000
TZOFFSETFROM:-0400
TZOFFSETTO:-0500
RDATE:20221106T020000
END:STANDARD
BEGIN:DAYLIGHT
TZNAME:EDT
DTSTART:20210314T020000
TZOFFSETFROM:-0500
TZOFFSETTO:-0400
RDATE:20220313T020000
RDATE:20230312T020000
END:DAYLIGHT
END:VTIMEZONE
BEGIN:VEVENT
UID:bcaa184d-79ce-40d6-80d2-8bad7437377d
DTSTAMP:20260425T135555Z
DESCRIPTION:Are you confused about what should go in your trash barrel and 
 what should go in your recycling bin? \n \nJoin Keep Massachusetts Beautif
 ul\, Keep Shrewsbury Beautiful\, and the Shrewsbury DPW for a free Zoom pr
 esentation and discussion of ways we can all reduce waste and improve recy
 cling.\n\nThe Talking Trash & Recycling program is an interactive presenta
 tion that will teach you what really happens to your trash and recyclables
  in Shrewsbury.  You will learn ways to reduce the amount of trash you gen
 erate\, improve your recycling habits\, make small changes to lead a more 
 sustainable lifestyle\, and help Shrewsbury achieve its solid waste reduct
 ion goals. We also provide an overview of MassDEP's RecycleSmartMA program
 .\n\nThis interactive program is delivered in approximately 45 minutes\, w
 ith 15-30 additional minutes of questions and answers at the end.\n\nTo pa
 rticipate\, please click the Register Now button in the top right-hand cor
 ner of this page to access the Zoom link.
DTSTART;TZID=America/New_York:20220217T190000
DTEND;TZID=America/New_York:20220217T201500
LOCATION:Zoom Meeting: Please register to obtain the Zoom link
SUMMARY:Talking Trash & Recycling with Keep Shrewsbury Beautiful
END:VEVENT
END:VCALENDAR
