BEGIN:VCALENDAR
VERSION:2.0
PRODID:-//keepmassbeautiful.org//NONSGML kigkonsult.se iCalcreator 2.30.10/
 /
CALSCALE:GREGORIAN
METHOD:PUBLISH
UID:aaa9c3bc-bab4-461d-b209-bc682243a997
X-WR-CALDESC:The cost and complexity of managing trash and recycling is a s
 ignificant challenge for residents\, municipalities\, and businesses acros
 s Massachusetts. \n\nJoin the North Andover Sustainability Committee and K
 eep Massachusetts Beautiful on July 30 for a presentation and discussion o
 f ways we can all reduce waste and improve recycling.\n\nOur Talking Trash
  & Recycling program is an interactive presentation that teaches residents
 \, employees\, and students about what really happens to their trash and r
 ecyclables here in Massachusetts. \n\nAttendees will learn ways to reduce 
 the amount of trash they generate\, improve their recycling habits\, make 
 small changes to lead a more sustainable lifestyle\, and help the state of
  Massachusetts achieve its solid waste reduction goals. We also provide an
  overview of MassDEP's RecycleSmartMA program.\n\nThis interactive program
  is delivered in approximately 45 minutes\, with 15 additional minutes of 
 questions and answers at the end.\n\nTo participate\, please click the Reg
 ister button in the top right-hand corner of this page to access the Zoom 
 invitation link.
X-WR-RELCALID:1164a912f248ffe45643865839569747
X-WR-TIMEZONE:America/New_York
BEGIN:VTIMEZONE
TZID:America/New_York
BEGIN:STANDARD
TZNAME:EST
DTSTART:20191103T020000
TZOFFSETFROM:-0400
TZOFFSETTO:-0500
RDATE:20201101T020000
RDATE:20211107T020000
END:STANDARD
BEGIN:DAYLIGHT
TZNAME:EDT
DTSTART:20200308T020000
TZOFFSETFROM:-0500
TZOFFSETTO:-0400
RDATE:20210314T020000
END:DAYLIGHT
END:VTIMEZONE
BEGIN:VEVENT
UID:c1dac631-499e-4f9b-b256-f73ce983a7a1
DTSTAMP:20260419T155714Z
DESCRIPTION:The cost and complexity of managing trash and recycling is a si
 gnificant challenge for residents\, municipalities\, and businesses across
  Massachusetts. \n\nJoin the North Andover Sustainability Committee and Ke
 ep Massachusetts Beautiful on July 30 for a presentation and discussion of
  ways we can all reduce waste and improve recycling.\n\nOur Talking Trash 
 & Recycling program is an interactive presentation that teaches residents\
 , employees\, and students about what really happens to their trash and re
 cyclables here in Massachusetts. \n\nAttendees will learn ways to reduce t
 he amount of trash they generate\, improve their recycling habits\, make s
 mall changes to lead a more sustainable lifestyle\, and help the state of 
 Massachusetts achieve its solid waste reduction goals. We also provide an 
 overview of MassDEP's RecycleSmartMA program.\n\nThis interactive program 
 is delivered in approximately 45 minutes\, with 15 additional minutes of q
 uestions and answers at the end.\n\nTo participate\, please click the Regi
 ster button in the top right-hand corner of this page to access the Zoom i
 nvitation link.
DTSTART;TZID=America/New_York:20200730T190000
DTEND;TZID=America/New_York:20200730T201500
LOCATION:Zoom Call on July 30 at 7 p.m.
SUMMARY:Talking Trash & Recycling with North Andover Sustainability Committ
 ee
END:VEVENT
END:VCALENDAR
