BEGIN:VCALENDAR
VERSION:2.0
PRODID:-//keepmassbeautiful.org//NONSGML kigkonsult.se iCalcreator 2.30.10/
 /
CALSCALE:GREGORIAN
METHOD:PUBLISH
UID:9bc5b589-eb27-4db3-9bdb-5441d5e8285f
X-WR-CALDESC:Calling all for an early bird cleanup! Great way to get in som
 e beach time before work while helping keep Mass beautiful. Cleanup suppli
 es provided. Please register via the link below.\n\nThank you!
X-WR-RELCALID:1cab62e4b5df537c7b330b2024025eed
X-WR-TIMEZONE:America/New_York
BEGIN:VTIMEZONE
TZID:America/New_York
BEGIN:STANDARD
TZNAME:EST
DTSTART:20211107T020000
TZOFFSETFROM:-0400
TZOFFSETTO:-0500
RDATE:20221106T020000
RDATE:20231105T020000
END:STANDARD
BEGIN:DAYLIGHT
TZNAME:EDT
DTSTART:20220313T020000
TZOFFSETFROM:-0500
TZOFFSETTO:-0400
RDATE:20230312T020000
END:DAYLIGHT
END:VTIMEZONE
BEGIN:VEVENT
UID:2be537ae-82a3-4f24-b5e6-0cb9a8949b28
DTSTAMP:20260426T005515Z
DESCRIPTION:Calling all for an early bird cleanup! Great way to get in some
  beach time before work while helping keep Mass beautiful. Cleanup supplie
 s provided. Please register via the link below.\n\nThank you!
DTSTART;TZID=America/New_York:20220706T070000
DTEND;TZID=America/New_York:20220706T080000
LOCATION:We will meet on the beach in front of the Ward Bathhouse at 4 Naha
 nt Road.
SUMMARY:Nahant Beach Cleanup
END:VEVENT
END:VCALENDAR
