BEGIN:VCALENDAR
VERSION:2.0
PRODID:-//keepmassbeautiful.org//NONSGML kigkonsult.se iCalcreator 2.30.10/
 /
CALSCALE:GREGORIAN
METHOD:PUBLISH
UID:2bfbecdb-acb0-433a-aaf8-0c1d210d3f90
X-WR-CALDESC:Come join 'Keep Barnstable Beautiful\,' a local chapter of Kee
 p Massachusetts Beautiful\, along with your family\, friends\, co-workers 
 and neighbors to give the Town of Barnstable a thorough Spring cleaning! T
 his cleanup offers volunteers the opportunity to get some fresh air while 
 cleaning up the litter that has accumulated in Barnstable over the winter.
  Volunteers should report to the Barnstable High School 744 W. Main Street
 \, Hyannis\, MA 02601 - Parking lot to the right (next to Daily Paper) \n
 \nMeet up: Barnstable High School
X-WR-RELCALID:66e616ebc5f9912e12214bdca076f89f
X-WR-TIMEZONE:America/New_York
BEGIN:VTIMEZONE
TZID:America/New_York
BEGIN:STANDARD
TZNAME:EST
DTSTART:20241103T020000
TZOFFSETFROM:-0400
TZOFFSETTO:-0500
RDATE:20251102T020000
END:STANDARD
BEGIN:DAYLIGHT
TZNAME:EDT
DTSTART:20250309T020000
TZOFFSETFROM:-0500
TZOFFSETTO:-0400
RDATE:20260308T020000
END:DAYLIGHT
END:VTIMEZONE
BEGIN:VEVENT
UID:485eb2a3-d678-46fe-99d3-4fb53860e957
DTSTAMP:20260420T135256Z
DESCRIPTION:Come join 'Keep Barnstable Beautiful\,' a local chapter of Keep
  Massachusetts Beautiful\, along with your family\, friends\, co-workers a
 nd neighbors to give the Town of Barnstable a thorough Spring cleaning! Th
 is cleanup offers volunteers the opportunity to get some fresh air while c
 leaning up the litter that has accumulated in Barnstable over the winter. 
 Volunteers should report to the Barnstable High School 744 W. Main Street\
 , Hyannis\, MA 02601 - Parking lot to the right (next to Daily Paper) \n\n
 Meet up: Barnstable High School
DTSTART;TZID=America/New_York:20250315T100000
DTEND;TZID=America/New_York:20250315T130000
LOCATION:Barnstable\, MA
SUMMARY:Barnstable Spring Cleanup
END:VEVENT
END:VCALENDAR
