BEGIN:VCALENDAR
VERSION:2.0
PRODID:-//keepmassbeautiful.org//NONSGML kigkonsult.se iCalcreator 2.30.10/
 /
CALSCALE:GREGORIAN
METHOD:PUBLISH
UID:ede4324a-0ba9-4530-87c0-dbfba540ebbf
X-WR-CALDESC:Join us for the 2025 MassRecycle Conference and Trade Show—a p
 owerful day dedicated to advancing climate solutions through innovative ma
 terials management! This year’s event will feature dynamic roundtable disc
 ussions\, an inspiring keynote speaker\, and hands-on strategies. Network 
 with industry leaders\, learn from experts\, and connect with like-minded 
 professionals committed to a sustainable future. Come for the insights\, s
 tay for the community.\n\nWe look forward to seeing you there!
X-WR-RELCALID:bc523fd3159cc7c6753ef6ec0a468366
X-WR-TIMEZONE:America/New_York
BEGIN:VTIMEZONE
TZID:America/New_York
BEGIN:STANDARD
TZNAME:EST
DTSTART:20241103T020000
TZOFFSETFROM:-0400
TZOFFSETTO:-0500
RDATE:20251102T020000
END:STANDARD
BEGIN:DAYLIGHT
TZNAME:EDT
DTSTART:20250309T020000
TZOFFSETFROM:-0500
TZOFFSETTO:-0400
RDATE:20260308T020000
END:DAYLIGHT
END:VTIMEZONE
BEGIN:VEVENT
UID:f918d9ee-e201-4873-a2ed-2738ea1784a0
DTSTAMP:20260420T142501Z
DESCRIPTION:Join us for the 2025 MassRecycle Conference and Trade Show—a po
 werful day dedicated to advancing climate solutions through innovative mat
 erials management! This year’s event will feature dynamic roundtable discu
 ssions\, an inspiring keynote speaker\, and hands-on strategies. Network w
 ith industry leaders\, learn from experts\, and connect with like-minded p
 rofessionals committed to a sustainable future. Come for the insights\, st
 ay for the community.\n\nWe look forward to seeing you there!
DTSTART;TZID=America/New_York:20250318T080000
DTEND;TZID=America/New_York:20250318T180000
LOCATION:Best Western Royal Plaza Hotel & Trade Center\, Marlboro\, MA
SUMMARY:2025 MassRecycle Conference & Trade Show
END:VEVENT
END:VCALENDAR
