BEGIN:VCALENDAR
VERSION:2.0
PRODID:-//keepmassbeautiful.org//NONSGML kigkonsult.se iCalcreator 2.30.10/
 /
CALSCALE:GREGORIAN
METHOD:PUBLISH
UID:75d74b73-65c5-4a2f-980a-3d8bfc16c4a0
X-WR-CALDESC:To celebrate and raise awareness of the importance of all type
 s of forests. Countries are encouraged to undertake local\, national and i
 nternational efforts to organize activities involving forests and trees\, 
 such as tree planting campaigns. \n\n
X-WR-RELCALID:a1999f0ecf1e78e0207359a2f5dc4c10
X-WR-TIMEZONE:America/New_York
BEGIN:VTIMEZONE
TZID:America/New_York
BEGIN:STANDARD
TZNAME:EST
DTSTART:20241103T020000
TZOFFSETFROM:-0400
TZOFFSETTO:-0500
RDATE:20251102T020000
END:STANDARD
BEGIN:DAYLIGHT
TZNAME:EDT
DTSTART:20250309T020000
TZOFFSETFROM:-0500
TZOFFSETTO:-0400
RDATE:20260308T020000
END:DAYLIGHT
END:VTIMEZONE
BEGIN:VEVENT
UID:9809089e-b261-461f-b372-f49d02151fa7
DTSTAMP:20260420T142711Z
DESCRIPTION:To celebrate and raise awareness of the importance of all types
  of forests. Countries are encouraged to undertake local\, national and in
 ternational efforts to organize activities involving forests and trees\, s
 uch as tree planting campaigns. \n\n
DTSTART;TZID=America/New_York:20250321T000000
DTEND;TZID=America/New_York:20250321T235900
LOCATION:
SUMMARY:International Day of Forests
END:VEVENT
END:VCALENDAR
