BEGIN:VCALENDAR
VERSION:2.0
PRODID:-//keepmassbeautiful.org//NONSGML kigkonsult.se iCalcreator 2.30.10/
 /
CALSCALE:GREGORIAN
METHOD:PUBLISH
UID:0b1b4eb0-a337-4213-b612-c30c30bda723
X-WR-CALDESC:Dedicated to planting in whatever capacity you can\, from plan
 ting a garden\, to helping an organization\, to even just spreading awaren
 ess about the importance of plants. \n
X-WR-RELCALID:79843aaf706a161023bd94873e6f9a08
X-WR-TIMEZONE:America/New_York
BEGIN:VTIMEZONE
TZID:America/New_York
BEGIN:STANDARD
TZNAME:EST
DTSTART:20241103T020000
TZOFFSETFROM:-0400
TZOFFSETTO:-0500
RDATE:20251102T020000
END:STANDARD
BEGIN:DAYLIGHT
TZNAME:EDT
DTSTART:20250309T020000
TZOFFSETFROM:-0500
TZOFFSETTO:-0400
RDATE:20260308T020000
END:DAYLIGHT
END:VTIMEZONE
BEGIN:VEVENT
UID:3ced2766-5aad-4750-8f01-86b6b563db0c
DTSTAMP:20260420T141756Z
DESCRIPTION:Dedicated to planting in whatever capacity you can\, from plant
 ing a garden\, to helping an organization\, to even just spreading awarene
 ss about the importance of plants. \n
DTSTART;TZID=America/New_York:20250321T000000
DTEND;TZID=America/New_York:20250321T235900
LOCATION:
SUMMARY:World Planting Day
END:VEVENT
END:VCALENDAR
