BEGIN:VCALENDAR
VERSION:2.0
PRODID:-//keepmassbeautiful.org//NONSGML kigkonsult.se iCalcreator 2.30.10/
 /
CALSCALE:GREGORIAN
METHOD:PUBLISH
UID:49f5ef20-d105-4056-891f-35fdd03df0f8
X-WR-CALDESC:The intention is to inspire people around the world to learn m
 ore about water-related issues and to take action to make a difference. \n
X-WR-RELCALID:c03d36644f5a9dc4c7d11bc0eee01805
X-WR-TIMEZONE:America/New_York
BEGIN:VTIMEZONE
TZID:America/New_York
BEGIN:STANDARD
TZNAME:EST
DTSTART:20241103T020000
TZOFFSETFROM:-0400
TZOFFSETTO:-0500
RDATE:20251102T020000
END:STANDARD
BEGIN:DAYLIGHT
TZNAME:EDT
DTSTART:20250309T020000
TZOFFSETFROM:-0500
TZOFFSETTO:-0400
RDATE:20260308T020000
END:DAYLIGHT
END:VTIMEZONE
BEGIN:VEVENT
UID:8dbc7ee8-1bc9-458e-8d32-29ef9f6405de
DTSTAMP:20260420T140104Z
DESCRIPTION:The intention is to inspire people around the world to learn mo
 re about water-related issues and to take action to make a difference. \n
DTSTART;TZID=America/New_York:20250322T000000
DTEND;TZID=America/New_York:20250322T235900
LOCATION:
SUMMARY:World Water Day
END:VEVENT
END:VCALENDAR
