BEGIN:VCALENDAR
VERSION:2.0
PRODID:-//keepmassbeautiful.org//NONSGML kigkonsult.se iCalcreator 2.30.10/
 /
CALSCALE:GREGORIAN
METHOD:PUBLISH
UID:2754705b-30f5-4e4d-87dc-fae536894079
X-WR-CALDESC:Help us clean-up after winter storms. Hot drinks will be avail
 able. Please bring a bag\, gloves\, refillable mug\, and dress warmly. \n
 \nMeet up: Duxbury Beach Parking Lot\, east end of the Powder Point Bridge
 . Access via Canal St\, Marshfield
X-WR-RELCALID:dfd00fd68f1309fd5864299302d9cbad
X-WR-TIMEZONE:America/New_York
BEGIN:VTIMEZONE
TZID:America/New_York
BEGIN:STANDARD
TZNAME:EST
DTSTART:20241103T020000
TZOFFSETFROM:-0400
TZOFFSETTO:-0500
RDATE:20251102T020000
END:STANDARD
BEGIN:DAYLIGHT
TZNAME:EDT
DTSTART:20250309T020000
TZOFFSETFROM:-0500
TZOFFSETTO:-0400
RDATE:20260308T020000
END:DAYLIGHT
END:VTIMEZONE
BEGIN:VEVENT
UID:a6d2e17a-b6dd-40c0-8958-93567b5ed225
DTSTAMP:20260420T141226Z
DESCRIPTION:Help us clean-up after winter storms. Hot drinks will be availa
 ble. Please bring a bag\, gloves\, refillable mug\, and dress warmly. \n\n
 Meet up: Duxbury Beach Parking Lot\, east end of the Powder Point Bridge. 
 Access via Canal St\, Marshfield
DTSTART;TZID=America/New_York:20250322T100000
DTEND;TZID=America/New_York:20250322T130000
LOCATION:Duxbury Beach
SUMMARY:Spring Beach Cleanup (Duxbury)
END:VEVENT
END:VCALENDAR
