BEGIN:VCALENDAR
VERSION:2.0
PRODID:-//keepmassbeautiful.org//NONSGML kigkonsult.se iCalcreator 2.30.10/
 /
CALSCALE:GREGORIAN
METHOD:PUBLISH
UID:11debdd3-6f07-4d6c-9926-6fab9f3ab9c0
X-WR-CALDESC:DOVER SPRING CLEANUP! It’s a perfect time to get a head start 
 on Dover’s April Cleanup of streets and parks – no bugs\, no poison ivy\, 
 no snow and ice!
X-WR-RELCALID:44bad7609b6e754c98bd7f1c9b8dac11
X-WR-TIMEZONE:America/New_York
BEGIN:VTIMEZONE
TZID:America/New_York
BEGIN:STANDARD
TZNAME:EST
DTSTART:20241103T020000
TZOFFSETFROM:-0400
TZOFFSETTO:-0500
RDATE:20251102T020000
END:STANDARD
BEGIN:DAYLIGHT
TZNAME:EDT
DTSTART:20250309T020000
TZOFFSETFROM:-0500
TZOFFSETTO:-0400
RDATE:20260308T020000
END:DAYLIGHT
END:VTIMEZONE
BEGIN:VEVENT
UID:a5308917-ad1c-43fe-a6cd-589cc657bf0e
DTSTAMP:20260420T123639Z
DESCRIPTION:DOVER SPRING CLEANUP! It’s a perfect time to get a head start o
 n Dover’s April Cleanup of streets and parks – no bugs\, no poison ivy\, n
 o snow and ice!
DTSTART;TZID=America/New_York:20250401T090000
DTEND;TZID=America/New_York:20250430T160000
LOCATION:Dover\, MA
SUMMARY:Dover Spring Cleanup
END:VEVENT
END:VCALENDAR
