BEGIN:VCALENDAR
VERSION:2.0
PRODID:-//keepmassbeautiful.org//NONSGML kigkonsult.se iCalcreator 2.30.10/
 /
CALSCALE:GREGORIAN
METHOD:PUBLISH
UID:9e5e7f24-8beb-41e1-87d7-9771cc73618b
X-WR-CALDESC:Help clean up the route of the battle of Menotomy April 1775 i
 n current day Arlington\, MA Please bring your own work/garden gloves\, tr
 ash bag and water bottle. A plastic bucket and grabber are also useful. In
 vite a friend or neighbor to join you in this community activity. The clea
 nup is planned to start at 10AM -12 Noon or join later groups from 12 noon
  -2PM. If heavy rain\, then rain date is following Saturday 4/12 same time
 s. \n\nMeet up: Arlington Center\, municipal parking lot at corner by Myst
 ic St & Chestnut St
X-WR-RELCALID:5848ed168b1479b5a786d79b91628c88
X-WR-TIMEZONE:America/New_York
BEGIN:VTIMEZONE
TZID:America/New_York
BEGIN:STANDARD
TZNAME:EST
DTSTART:20241103T020000
TZOFFSETFROM:-0400
TZOFFSETTO:-0500
RDATE:20251102T020000
END:STANDARD
BEGIN:DAYLIGHT
TZNAME:EDT
DTSTART:20250309T020000
TZOFFSETFROM:-0500
TZOFFSETTO:-0400
RDATE:20260308T020000
END:DAYLIGHT
END:VTIMEZONE
BEGIN:VEVENT
UID:4ed1b267-5e87-4d31-af75-be147b58801b
DTSTAMP:20260420T123817Z
DESCRIPTION:Help clean up the route of the battle of Menotomy April 1775 in
  current day Arlington\, MA Please bring your own work/garden gloves\, tra
 sh bag and water bottle. A plastic bucket and grabber are also useful. Inv
 ite a friend or neighbor to join you in this community activity. The clean
 up is planned to start at 10AM -12 Noon or join later groups from 12 noon 
 -2PM. If heavy rain\, then rain date is following Saturday 4/12 same times
 . \n\nMeet up: Arlington Center\, municipal parking lot at corner by Mysti
 c St & Chestnut St
DTSTART;TZID=America/New_York:20250405T100000
DTEND;TZID=America/New_York:20250405T140000
LOCATION:Arlington\, MA
SUMMARY:Cleanup Reenactment Route (Arlington)
END:VEVENT
END:VCALENDAR
