BEGIN:VCALENDAR
VERSION:2.0
PRODID:-//keepmassbeautiful.org//NONSGML kigkonsult.se iCalcreator 2.30.10/
 /
CALSCALE:GREGORIAN
METHOD:PUBLISH
UID:b5eda41b-f810-4567-8edd-700c3180dc71
X-WR-CALDESC:The Seekonk Litter Patrol has been cleaning up our roads year 
 after year\, and this year we hope to make it bigger and better than ever!
  Stop by to pick up your Litter Patrol Supplies (Bags\, Gloves\, Pickers\,
  T-shirts) and take coffee or water to go. Return in the afternoon with yo
 ur collected trash bags for a special treat! \n\nMeet up: 871 Taunton Ave 
 Seekonk MA 02771
X-WR-RELCALID:3a209affc8606e2c29b7bbf186c881a8
X-WR-TIMEZONE:America/New_York
BEGIN:VTIMEZONE
TZID:America/New_York
BEGIN:STANDARD
TZNAME:EST
DTSTART:20241103T020000
TZOFFSETFROM:-0400
TZOFFSETTO:-0500
RDATE:20251102T020000
END:STANDARD
BEGIN:DAYLIGHT
TZNAME:EDT
DTSTART:20250309T020000
TZOFFSETFROM:-0500
TZOFFSETTO:-0400
RDATE:20260308T020000
END:DAYLIGHT
END:VTIMEZONE
BEGIN:VEVENT
UID:aded4b80-a4e0-4c06-bf21-f37dcd4fd4f3
DTSTAMP:20260420T123958Z
DESCRIPTION:The Seekonk Litter Patrol has been cleaning up our roads year a
 fter year\, and this year we hope to make it bigger and better than ever! 
 Stop by to pick up your Litter Patrol Supplies (Bags\, Gloves\, Pickers\, 
 T-shirts) and take coffee or water to go. Return in the afternoon with you
 r collected trash bags for a special treat! \n\nMeet up: 871 Taunton Ave S
 eekonk MA 02771
DTSTART;TZID=America/New_York:20250405T080000
DTEND;TZID=America/New_York:20250405T160000
LOCATION:Seekonk\, MA
SUMMARY:Seekonk Litter Patrol
END:VEVENT
END:VCALENDAR
