BEGIN:VCALENDAR
VERSION:2.0
PRODID:-//keepmassbeautiful.org//NONSGML kigkonsult.se iCalcreator 2.30.10/
 /
CALSCALE:GREGORIAN
METHOD:PUBLISH
UID:7b1bb3a8-50a9-455e-9834-4363d7b8bd68
X-WR-CALDESC:Gather your team\, grab your gloves\, and get ready for an isl
 and-wide cleanup with a competitive twist! The Nantucket Litter Derby is a
  high-energy\, community-driven event where teams race to collect as much 
 litter as possible over one weekend. With cash prizes\, local pride\, and 
 a cleaner island at stake\, this is your chance to make a real impact whil
 e having a blast.It’s free to participate—just sign up\, tidy up\, and win
  big for Nantucket!
X-WR-RELCALID:d9d7f2a77dab956e5b1421cfe29a0213
X-WR-TIMEZONE:America/New_York
BEGIN:VTIMEZONE
TZID:America/New_York
BEGIN:STANDARD
TZNAME:EST
DTSTART:20241103T020000
TZOFFSETFROM:-0400
TZOFFSETTO:-0500
RDATE:20251102T020000
END:STANDARD
BEGIN:DAYLIGHT
TZNAME:EDT
DTSTART:20250309T020000
TZOFFSETFROM:-0500
TZOFFSETTO:-0400
RDATE:20260308T020000
END:DAYLIGHT
END:VTIMEZONE
BEGIN:VEVENT
UID:37bfd1bc-a7fd-4562-bbea-3eb318d164c4
DTSTAMP:20260420T130456Z
DESCRIPTION:Gather your team\, grab your gloves\, and get ready for an isla
 nd-wide cleanup with a competitive twist! The Nantucket Litter Derby is a 
 high-energy\, community-driven event where teams race to collect as much l
 itter as possible over one weekend. With cash prizes\, local pride\, and a
  cleaner island at stake\, this is your chance to make a real impact while
  having a blast.It’s free to participate—just sign up\, tidy up\, and win 
 big for Nantucket!
DTSTART;TZID=America/New_York:20250405T060000
DTEND;TZID=America/New_York:20250406T120000
LOCATION:Nantucket\, Massachusetts
SUMMARY:The 6th Annual Nantucket Litter Derby
END:VEVENT
END:VCALENDAR
