BEGIN:VCALENDAR
VERSION:2.0
PRODID:-//keepmassbeautiful.org//NONSGML kigkonsult.se iCalcreator 2.30.10/
 /
CALSCALE:GREGORIAN
METHOD:PUBLISH
UID:1c5d067a-cad9-46ac-9de7-3dba251b0248
X-WR-CALDESC:Town Wide Clean Up covering over 10 sites across town with a c
 ookout to follow for all volunteers sponsored by the Parks and Recreation 
 Department. \n\nSign up at the link below to select the location you wish 
 to clean up.
X-WR-RELCALID:bae9455b279c4ec6e777f027d524bdf1
X-WR-TIMEZONE:America/New_York
BEGIN:VTIMEZONE
TZID:America/New_York
BEGIN:STANDARD
TZNAME:EST
DTSTART:20241103T020000
TZOFFSETFROM:-0400
TZOFFSETTO:-0500
RDATE:20251102T020000
END:STANDARD
BEGIN:DAYLIGHT
TZNAME:EDT
DTSTART:20250309T020000
TZOFFSETFROM:-0500
TZOFFSETTO:-0400
RDATE:20260308T020000
END:DAYLIGHT
END:VTIMEZONE
BEGIN:VEVENT
UID:7d38e169-0a06-4657-9903-114d63c0dd4d
DTSTAMP:20260420T123848Z
DESCRIPTION:Town Wide Clean Up covering over 10 sites across town with a co
 okout to follow for all volunteers sponsored by the Parks and Recreation D
 epartment. \n\nSign up at the link below to select the location you wish t
 o clean up.
DTSTART;TZID=America/New_York:20250405T100000
DTEND;TZID=America/New_York:20250405T120000
LOCATION:Canton\, MA
SUMMARY:The Great Canton Cleanup
END:VEVENT
END:VCALENDAR
