BEGIN:VCALENDAR
VERSION:2.0
PRODID:-//keepmassbeautiful.org//NONSGML kigkonsult.se iCalcreator 2.30.10/
 /
CALSCALE:GREGORIAN
METHOD:PUBLISH
UID:443af787-423e-47ac-b7b4-f47e91a25a9c
X-WR-CALDESC:2nd Annual Beautification of Stoughton Cleanup Day. Join your 
 neighbors and help clean up your town. Supplies are provided. Cookout to f
 ollow at the Council on Aging from 10:30-12:00.\n\n Volunteers will meet y
 our team leader in the spot you register for
X-WR-RELCALID:76ce25776b5194894984dc95b9e4a325
X-WR-TIMEZONE:America/New_York
BEGIN:VTIMEZONE
TZID:America/New_York
BEGIN:STANDARD
TZNAME:EST
DTSTART:20241103T020000
TZOFFSETFROM:-0400
TZOFFSETTO:-0500
RDATE:20251102T020000
END:STANDARD
BEGIN:DAYLIGHT
TZNAME:EDT
DTSTART:20250309T020000
TZOFFSETFROM:-0500
TZOFFSETTO:-0400
RDATE:20260308T020000
END:DAYLIGHT
END:VTIMEZONE
BEGIN:VEVENT
UID:fca20f3b-62d6-4e24-8d94-e4769b674728
DTSTAMP:20260420T124307Z
DESCRIPTION:2nd Annual Beautification of Stoughton Cleanup Day. Join your n
 eighbors and help clean up your town. Supplies are provided. Cookout to fo
 llow at the Council on Aging from 10:30-12:00.\n\n Volunteers will meet yo
 ur team leader in the spot you register for
DTSTART;TZID=America/New_York:20250412T080000
DTEND;TZID=America/New_York:20250412T120000
LOCATION:Stoughton\, MA
SUMMARY:Beautification of Stoughton Cleanup Day
END:VEVENT
END:VCALENDAR
