BEGIN:VCALENDAR
VERSION:2.0
PRODID:-//keepmassbeautiful.org//NONSGML kigkonsult.se iCalcreator 2.30.10/
 /
CALSCALE:GREGORIAN
METHOD:PUBLISH
UID:5c333de4-fb48-4928-908f-025f7e3aea0b
X-WR-CALDESC:Join Millis clean up playgrounds\, parks\, roadways\, picnic a
 reas and more. \n\nMeet up: Millis Town Hall 900 Main St. Millis MA 02054
X-WR-RELCALID:96d5ad06f084c723372c1f538b1720a3
X-WR-TIMEZONE:America/New_York
BEGIN:VTIMEZONE
TZID:America/New_York
BEGIN:STANDARD
TZNAME:EST
DTSTART:20241103T020000
TZOFFSETFROM:-0400
TZOFFSETTO:-0500
RDATE:20251102T020000
END:STANDARD
BEGIN:DAYLIGHT
TZNAME:EDT
DTSTART:20250309T020000
TZOFFSETFROM:-0500
TZOFFSETTO:-0400
RDATE:20260308T020000
END:DAYLIGHT
END:VTIMEZONE
BEGIN:VEVENT
UID:e76314fa-0343-4b86-a07e-7962869142b1
DTSTAMP:20260420T123649Z
DESCRIPTION:Join Millis clean up playgrounds\, parks\, roadways\, picnic ar
 eas and more. \n\nMeet up: Millis Town Hall 900 Main St. Millis MA 02054
DTSTART;TZID=America/New_York:20250412T090000
DTEND;TZID=America/New_York:20250412T120000
LOCATION:Millis\, MA
SUMMARY:Millis Beautification Day
END:VEVENT
END:VCALENDAR
