BEGIN:VCALENDAR
VERSION:2.0
PRODID:-//keepmassbeautiful.org//NONSGML kigkonsult.se iCalcreator 2.30.10/
 /
CALSCALE:GREGORIAN
METHOD:PUBLISH
UID:0de41365-16c1-4155-ada3-c924f4a3270b
X-WR-CALDESC:Help keep your town clean & beautiful! It’s up to all of us. 
 \n\nMeet up: Warren Community Elementary School 51 Schoolhouse Drive West 
 Warren\, MA 01092
X-WR-RELCALID:c01ac6c4ff4fee0ed2ef70a885087ba8
X-WR-TIMEZONE:America/New_York
BEGIN:VTIMEZONE
TZID:America/New_York
BEGIN:STANDARD
TZNAME:EST
DTSTART:20241103T020000
TZOFFSETFROM:-0400
TZOFFSETTO:-0500
RDATE:20251102T020000
END:STANDARD
BEGIN:DAYLIGHT
TZNAME:EDT
DTSTART:20250309T020000
TZOFFSETFROM:-0500
TZOFFSETTO:-0400
RDATE:20260308T020000
END:DAYLIGHT
END:VTIMEZONE
BEGIN:VEVENT
UID:083fb62f-203a-49a3-91cb-b31a164a5004
DTSTAMP:20260420T124125Z
DESCRIPTION:Help keep your town clean & beautiful! It’s up to all of us. \n
 \nMeet up: Warren Community Elementary School 51 Schoolhouse Drive West Wa
 rren\, MA 01092
DTSTART;TZID=America/New_York:20250412T084500
DTEND;TZID=America/New_York:20250412T133000
LOCATION:Warren\, MA
SUMMARY:Warren- West Warren Earth Day Community Cleanup
END:VEVENT
END:VCALENDAR
