BEGIN:VCALENDAR
VERSION:2.0
PRODID:-//keepmassbeautiful.org//NONSGML kigkonsult.se iCalcreator 2.30.10/
 /
CALSCALE:GREGORIAN
METHOD:PUBLISH
UID:48d3aaf4-464f-4b5c-86e9-2f20eb6bd8be
X-WR-CALDESC:Please join us for our 2nd annual Earth Day celebration where 
 Make Me Brand New and Keep Whitman Beautiful volunteers and the community 
 come together for a town wide cleanup followed by a greener celebration. 
 \n\nVolunteers will meet at our checkpoint on the South Ave side of Colebr
 ook Boulevard\, in the parking lot that opens to Hobart Pond.
X-WR-RELCALID:b4106688fd50bbca85c50c65ef46453d
X-WR-TIMEZONE:America/New_York
BEGIN:VTIMEZONE
TZID:America/New_York
BEGIN:STANDARD
TZNAME:EST
DTSTART:20241103T020000
TZOFFSETFROM:-0400
TZOFFSETTO:-0500
RDATE:20251102T020000
END:STANDARD
BEGIN:DAYLIGHT
TZNAME:EDT
DTSTART:20250309T020000
TZOFFSETFROM:-0500
TZOFFSETTO:-0400
RDATE:20260308T020000
END:DAYLIGHT
END:VTIMEZONE
BEGIN:VEVENT
UID:3938abb4-0f99-447f-944c-110eac7802ba
DTSTAMP:20260420T124111Z
DESCRIPTION:Please join us for our 2nd annual Earth Day celebration where M
 ake Me Brand New and Keep Whitman Beautiful volunteers and the community c
 ome together for a town wide cleanup followed by a greener celebration. \n
 \nVolunteers will meet at our checkpoint on the South Ave side of Colebroo
 k Boulevard\, in the parking lot that opens to Hobart Pond.
DTSTART;TZID=America/New_York:20250412T110000
DTEND;TZID=America/New_York:20250412T140000
LOCATION:Whitman\, MA
SUMMARY:Whitman Earth Day 2nd Annual Cleanup & Celebration
END:VEVENT
END:VCALENDAR
