BEGIN:VCALENDAR
VERSION:2.0
PRODID:-//keepmassbeautiful.org//NONSGML kigkonsult.se iCalcreator 2.30.10/
 /
CALSCALE:GREGORIAN
METHOD:PUBLISH
UID:8b71c50d-fd39-420e-a2c7-438f6a309e50
X-WR-CALDESC:Join us for the Keep Wrentham Beautiful Spring Cleanup! April 
 12th (Rain date: April 13th)\, 10 AM – 2 PM\, Wrentham Council on Aging\, 
 400 Taunton St.\, Wrentham\, MA. RSVP today and help us make a difference!
  Meet us at the Senior Center at 10 AM to sign in\, grab supplies\, and se
 lect a cleanup area. Drop off full trash bags back at the Senior Center\, 
 and we’ll take care of the rest. \n\nWhat to Bring: \n* High-visibility cl
 othing \n* Gloves (please bring your own) \n* Trash grabber (we'll have so
 me on hand or you can order one through the link in the registration)\n\nM
 eet up: 400 Taunton Street\, Wrentham\, MA 02093
X-WR-RELCALID:d60e81ce9cdea392f9938ece67ef2d37
X-WR-TIMEZONE:America/New_York
BEGIN:VTIMEZONE
TZID:America/New_York
BEGIN:STANDARD
TZNAME:EST
DTSTART:20241103T020000
TZOFFSETFROM:-0400
TZOFFSETTO:-0500
RDATE:20251102T020000
END:STANDARD
BEGIN:DAYLIGHT
TZNAME:EDT
DTSTART:20250309T020000
TZOFFSETFROM:-0500
TZOFFSETTO:-0400
RDATE:20260308T020000
END:DAYLIGHT
END:VTIMEZONE
BEGIN:VEVENT
UID:0c893a38-5205-4307-bd74-41607a4d6a6d
DTSTAMP:20260420T123752Z
DESCRIPTION:Join us for the Keep Wrentham Beautiful Spring Cleanup! April 1
 2th (Rain date: April 13th)\, 10 AM – 2 PM\, Wrentham Council on Aging\, 4
 00 Taunton St.\, Wrentham\, MA. RSVP today and help us make a difference! 
 Meet us at the Senior Center at 10 AM to sign in\, grab supplies\, and sel
 ect a cleanup area. Drop off full trash bags back at the Senior Center\, a
 nd we’ll take care of the rest. \n\nWhat to Bring: \n* High-visibility clo
 thing \n* Gloves (please bring your own) \n* Trash grabber (we'll have som
 e on hand or you can order one through the link in the registration)\n\nMe
 et up: 400 Taunton Street\, Wrentham\, MA 02093
DTSTART;TZID=America/New_York:20250412T100000
DTEND;TZID=America/New_York:20250412T140000
LOCATION:Wrentham\, MA
SUMMARY:Wrentham Springtime Cleanup!
END:VEVENT
END:VCALENDAR
