BEGIN:VCALENDAR
VERSION:2.0
PRODID:-//keepmassbeautiful.org//NONSGML kigkonsult.se iCalcreator 2.30.10/
 /
CALSCALE:GREGORIAN
METHOD:PUBLISH
UID:d544e397-9c10-4d07-857c-8d83fd48766d
X-WR-CALDESC:Join us for the annual spring community cleanup day! Materials
  will be provided\, check in at Town Hall to get a cleanup location or reg
 ister ahead of time. \n\nRain Date: April 13\, 2025\n\nMeet up: 1146 Route
  28\, South Yarmouth MA 02664
X-WR-RELCALID:00325ac9b448fe1ba1d353da77e0d65f
X-WR-TIMEZONE:America/New_York
BEGIN:VTIMEZONE
TZID:America/New_York
BEGIN:STANDARD
TZNAME:EST
DTSTART:20241103T020000
TZOFFSETFROM:-0400
TZOFFSETTO:-0500
RDATE:20251102T020000
END:STANDARD
BEGIN:DAYLIGHT
TZNAME:EDT
DTSTART:20250309T020000
TZOFFSETFROM:-0500
TZOFFSETTO:-0400
RDATE:20260308T020000
END:DAYLIGHT
END:VTIMEZONE
BEGIN:VEVENT
UID:0c870ef6-aefe-448d-b835-6fa2e1fea5ac
DTSTAMP:20260420T125521Z
DESCRIPTION:Join us for the annual spring community cleanup day! Materials 
 will be provided\, check in at Town Hall to get a cleanup location or regi
 ster ahead of time. \n\nRain Date: April 13\, 2025\n\nMeet up: 1146 Route 
 28\, South Yarmouth MA 02664
DTSTART;TZID=America/New_York:20250412T080000
DTEND;TZID=America/New_York:20250412T120000
LOCATION:Yarmouth\, MA
SUMMARY:Yarmouth Annual Community Cleanup
END:VEVENT
END:VCALENDAR
