BEGIN:VCALENDAR
VERSION:2.0
PRODID:-//keepmassbeautiful.org//NONSGML kigkonsult.se iCalcreator 2.30.10/
 /
CALSCALE:GREGORIAN
METHOD:PUBLISH
UID:df47bf80-c7e1-400a-8df8-125f29aab455
X-WR-CALDESC:7th annual townwide cleanup. Sign up at Library with your addr
 ess\, get free bags and leave at your house when your weekly trash goes ou
 t. \n\nDon't know where to clean?  We have areas of concern\, call us!\n\n
 Grabbers and vests will be available in the library during library hours a
 fter April 11th.
X-WR-RELCALID:5edf8d8d82db94813acb86e58e039278
X-WR-TIMEZONE:America/New_York
BEGIN:VTIMEZONE
TZID:America/New_York
BEGIN:STANDARD
TZNAME:EST
DTSTART:20241103T020000
TZOFFSETFROM:-0400
TZOFFSETTO:-0500
RDATE:20251102T020000
END:STANDARD
BEGIN:DAYLIGHT
TZNAME:EDT
DTSTART:20250309T020000
TZOFFSETFROM:-0500
TZOFFSETTO:-0400
RDATE:20260308T020000
END:DAYLIGHT
END:VTIMEZONE
BEGIN:VEVENT
UID:a599a63a-1d54-4a72-bc4e-34cc2f58dcc3
DTSTAMP:20260420T124625Z
DESCRIPTION:7th annual townwide cleanup. Sign up at Library with your addre
 ss\, get free bags and leave at your house when your weekly trash goes out
 . \n\nDon't know where to clean?  We have areas of concern\, call us!\n\nG
 rabbers and vests will be available in the library during library hours af
 ter April 11th.
DTSTART;TZID=America/New_York:20250415T060000
DTEND;TZID=America/New_York:20250425T060001
LOCATION:Townsend\, MA
SUMMARY:Townsend 7th annual town wide cleanup
END:VEVENT
END:VCALENDAR
