BEGIN:VCALENDAR
VERSION:2.0
PRODID:-//keepmassbeautiful.org//NONSGML kigkonsult.se iCalcreator 2.30.10/
 /
CALSCALE:GREGORIAN
METHOD:PUBLISH
UID:f835af0a-c2b8-4985-a6fd-1d0d6c9d6949
X-WR-CALDESC:Please join us on Saturday\, April 19\, for the Fifth Annual F
 riends of NoB (North of Broadway) Earth Day Neighborhood Clean Up\, hosted
  together with Friends of the Boston Harborwalk. \n\nCheck-in/registration
  will be open by 8:45 AM\, and then those who can stay on past 11:30 will 
 be treated to a pizza party starting 11:45 a.m.
X-WR-RELCALID:a195deb72957cddea12e02555a72bc30
X-WR-TIMEZONE:America/New_York
BEGIN:VTIMEZONE
TZID:America/New_York
BEGIN:STANDARD
TZNAME:EST
DTSTART:20241103T020000
TZOFFSETFROM:-0400
TZOFFSETTO:-0500
RDATE:20251102T020000
END:STANDARD
BEGIN:DAYLIGHT
TZNAME:EDT
DTSTART:20250309T020000
TZOFFSETFROM:-0500
TZOFFSETTO:-0400
RDATE:20260308T020000
END:DAYLIGHT
END:VTIMEZONE
BEGIN:VEVENT
UID:eee7914d-1eb1-4f5e-8856-e828a2b7f6b1
DTSTAMP:20260420T124603Z
DESCRIPTION:Please join us on Saturday\, April 19\, for the Fifth Annual Fr
 iends of NoB (North of Broadway) Earth Day Neighborhood Clean Up\, hosted 
 together with Friends of the Boston Harborwalk. \n\nCheck-in/registration 
 will be open by 8:45 AM\, and then those who can stay on past 11:30 will b
 e treated to a pizza party starting 11:45 a.m.
DTSTART;TZID=America/New_York:20250419T084500
DTEND;TZID=America/New_York:20250419T113000
LOCATION:500 East First Street\, South Boston\, MA 02127 US
SUMMARY:5th Annual Friends of NoB Earth Day Neighborhood Cleanup (South Bos
 ton)
END:VEVENT
END:VCALENDAR
