BEGIN:VCALENDAR
VERSION:2.0
PRODID:-//keepmassbeautiful.org//NONSGML kigkonsult.se iCalcreator 2.30.10/
 /
CALSCALE:GREGORIAN
METHOD:PUBLISH
UID:9a01e02f-496a-46a6-bb4b-b0b3034a204d
X-WR-CALDESC:AmeriCorps Cape Cod and U.S. Army Corps of Engineers are hosti
 ng the 24th annual Cape Cod Canal Clean-Up! Please join us in this communi
 ty event where you can be part of a local effort to keep Cape Cod beautifu
 l. Please see the flyer below to register! \n\nHerring Run Recreation Area
  (810 Scenic Hwy\, Bourne\, MA 02532) \n\n
X-WR-RELCALID:d86fb1054ee11e92d7ac6426e465899f
X-WR-TIMEZONE:America/New_York
BEGIN:VTIMEZONE
TZID:America/New_York
BEGIN:STANDARD
TZNAME:EST
DTSTART:20241103T020000
TZOFFSETFROM:-0400
TZOFFSETTO:-0500
RDATE:20251102T020000
END:STANDARD
BEGIN:DAYLIGHT
TZNAME:EDT
DTSTART:20250309T020000
TZOFFSETFROM:-0500
TZOFFSETTO:-0400
RDATE:20260308T020000
END:DAYLIGHT
END:VTIMEZONE
BEGIN:VEVENT
UID:fdbd7d30-0aa7-46a5-919c-f6920583223d
DTSTAMP:20260420T123631Z
DESCRIPTION:AmeriCorps Cape Cod and U.S. Army Corps of Engineers are hostin
 g the 24th annual Cape Cod Canal Clean-Up! Please join us in this communit
 y event where you can be part of a local effort to keep Cape Cod beautiful
 . Please see the flyer below to register! \n\nHerring Run Recreation Area 
 (810 Scenic Hwy\, Bourne\, MA 02532) \n\n
DTSTART;TZID=America/New_York:20250419T100000
DTEND;TZID=America/New_York:20250419T140000
LOCATION:Bourne\, MA
SUMMARY:Cape Cod Canal Cleanup
END:VEVENT
END:VCALENDAR
