BEGIN:VCALENDAR
VERSION:2.0
PRODID:-//keepmassbeautiful.org//NONSGML kigkonsult.se iCalcreator 2.30.10/
 /
CALSCALE:GREGORIAN
METHOD:PUBLISH
UID:0f0fe9c0-6c45-4106-a0e8-9effdca33ad0
X-WR-CALDESC:Please join Chelmsford’s Annual Town Wide Cleanup by helping t
 o pick up litter along Chelmsford’s roads\, neighborhoods\, parks\, and re
 creation areas. Plan your clean up for the week of Saturday\, April 19 to 
 Sunday\, April 27. Volunteers are urged to wear bright-colored clothing an
 d avoid stepping into the street while working. Whenever possible\, please
  bring your yellow bags to your home curbside. They will be picked up with
  your regular trash until Friday\, May 2.\n\nLocations: No central spot - 
 clean up your neighborhood any time during the week! \n\n
X-WR-RELCALID:18a12d6803e0d8bae68a450b8eec9ba0
X-WR-TIMEZONE:America/New_York
BEGIN:VTIMEZONE
TZID:America/New_York
BEGIN:STANDARD
TZNAME:EST
DTSTART:20241103T020000
TZOFFSETFROM:-0400
TZOFFSETTO:-0500
RDATE:20251102T020000
END:STANDARD
BEGIN:DAYLIGHT
TZNAME:EDT
DTSTART:20250309T020000
TZOFFSETFROM:-0500
TZOFFSETTO:-0400
RDATE:20260308T020000
END:DAYLIGHT
END:VTIMEZONE
BEGIN:VEVENT
UID:40c36fb5-5261-4394-8db0-f93aa5ab7beb
DTSTAMP:20260420T125644Z
DESCRIPTION:Please join Chelmsford’s Annual Town Wide Cleanup by helping to
  pick up litter along Chelmsford’s roads\, neighborhoods\, parks\, and rec
 reation areas. Plan your clean up for the week of Saturday\, April 19 to S
 unday\, April 27. Volunteers are urged to wear bright-colored clothing and
  avoid stepping into the street while working. Whenever possible\, please 
 bring your yellow bags to your home curbside. They will be picked up with 
 your regular trash until Friday\, May 2.\n\nLocations: No central spot - c
 lean up your neighborhood any time during the week! \n\n
DTSTART;TZID=America/New_York:20250419T060000
DTEND;TZID=America/New_York:20250427T060001
LOCATION:Chelmsford\, MA
SUMMARY:Chelmsford Town Wide Cleanup
END:VEVENT
END:VCALENDAR
