BEGIN:VCALENDAR
VERSION:2.0
PRODID:-//keepmassbeautiful.org//NONSGML kigkonsult.se iCalcreator 2.30.10/
 /
CALSCALE:GREGORIAN
METHOD:PUBLISH
UID:2c1a8b1a-e88d-442a-a73c-087e1341cfcc
X-WR-CALDESC:Join us on Saturday\, April 19th (Rain Date: April 26th) from 
 9:00 AM to 12:00 PM for our annual “Clean & Green” community cleanup event
 !\n\nParticipants will receive free Earth Day hats (while supplies last) a
 s a token of appreciation for helping beautify Freetown. Gather your famil
 y\, friends\, and neighbors for a rewarding morning of environmental actio
 n. Don’t forget to dress brightly in your Earth Day tee\, prioritize safet
 y\, and stick to designated cleanup areas.\n\nTeam leaders should arrive b
 y 8:45 AM at designated pickup points to collect cleanup kits\, including 
 gloves\, hand sanitizer\, and bags.\n\nAfter the cleanup\, join us at the 
 Council on Aging Pavilion for a celebratory lunch from 12:30 PM to 1:30 PM
 . The library will also be providing a special Earth Day giveaway.\n\nLet’
 s make a positive impact on our environment and show our love for Freetown
 . We look forward to seeing you there!
X-WR-RELCALID:2157ed682eebba4440678133a71a5869
X-WR-TIMEZONE:America/New_York
BEGIN:VTIMEZONE
TZID:America/New_York
BEGIN:STANDARD
TZNAME:EST
DTSTART:20241103T020000
TZOFFSETFROM:-0400
TZOFFSETTO:-0500
RDATE:20251102T020000
END:STANDARD
BEGIN:DAYLIGHT
TZNAME:EDT
DTSTART:20250309T020000
TZOFFSETFROM:-0500
TZOFFSETTO:-0400
RDATE:20260308T020000
END:DAYLIGHT
END:VTIMEZONE
BEGIN:VEVENT
UID:99eeb031-581d-4c64-a499-20c06cd161a0
DTSTAMP:20260420T123700Z
DESCRIPTION:Join us on Saturday\, April 19th (Rain Date: April 26th) from 9
 :00 AM to 12:00 PM for our annual “Clean & Green” community cleanup event!
 \n\nParticipants will receive free Earth Day hats (while supplies last) as
  a token of appreciation for helping beautify Freetown. Gather your family
 \, friends\, and neighbors for a rewarding morning of environmental action
 . Don’t forget to dress brightly in your Earth Day tee\, prioritize safety
 \, and stick to designated cleanup areas.\n\nTeam leaders should arrive by
  8:45 AM at designated pickup points to collect cleanup kits\, including g
 loves\, hand sanitizer\, and bags.\n\nAfter the cleanup\, join us at the C
 ouncil on Aging Pavilion for a celebratory lunch from 12:30 PM to 1:30 PM.
  The library will also be providing a special Earth Day giveaway.\n\nLet’s
  make a positive impact on our environment and show our love for Freetown.
  We look forward to seeing you there!
DTSTART;TZID=America/New_York:20250419T090000
DTEND;TZID=America/New_York:20250419T120000
LOCATION:Freetown\, MA
SUMMARY:FREETOWN - KEEP IT CLEAN\, KEEP IT GREEN
END:VEVENT
END:VCALENDAR
