BEGIN:VCALENDAR
VERSION:2.0
PRODID:-//keepmassbeautiful.org//NONSGML kigkonsult.se iCalcreator 2.30.10/
 /
CALSCALE:GREGORIAN
METHOD:PUBLISH
UID:8b45573d-8022-421f-a551-29e78369c096
X-WR-CALDESC:Save the DATE for the 2025 Great Fitchburg City Cleanups! Join
  us to clean our streets and parks of litter and debris. Please bring frie
 nds with work gloves and a helping hand. We provide bags\, Plastic gloves 
 and disposal. City Cleanups and Events are 8AM - 12PM \n\nMeet up: High/Ac
 ademy St.
X-WR-RELCALID:31860273b7561c3b93eb4672737f6e18
X-WR-TIMEZONE:America/New_York
BEGIN:VTIMEZONE
TZID:America/New_York
BEGIN:STANDARD
TZNAME:EST
DTSTART:20241103T020000
TZOFFSETFROM:-0400
TZOFFSETTO:-0500
RDATE:20251102T020000
END:STANDARD
BEGIN:DAYLIGHT
TZNAME:EDT
DTSTART:20250309T020000
TZOFFSETFROM:-0500
TZOFFSETTO:-0400
RDATE:20260308T020000
END:DAYLIGHT
END:VTIMEZONE
BEGIN:VEVENT
UID:49764a10-5aba-414f-887d-4ba8536b595a
DTSTAMP:20260420T124429Z
DESCRIPTION:Save the DATE for the 2025 Great Fitchburg City Cleanups! Join 
 us to clean our streets and parks of litter and debris. Please bring frien
 ds with work gloves and a helping hand. We provide bags\, Plastic gloves a
 nd disposal. City Cleanups and Events are 8AM - 12PM \n\nMeet up: High/Aca
 demy St.
DTSTART;TZID=America/New_York:20250419T080000
DTEND;TZID=America/New_York:20250419T120000
LOCATION:Fitchburg\, MA
SUMMARY:Great Fitchburg City Cleanup
END:VEVENT
END:VCALENDAR
