BEGIN:VCALENDAR
VERSION:2.0
PRODID:-//keepmassbeautiful.org//NONSGML kigkonsult.se iCalcreator 2.30.10/
 /
CALSCALE:GREGORIAN
METHOD:PUBLISH
UID:e4e72911-ccf0-4d82-b442-cd869bb488c0
X-WR-CALDESC:Let's work to make our town shine! Meet us at the Lord Pond Pl
 aza (Job Lot) Parking Lot by the Senior Center starting at 9am to pick up 
 trash bags\, gloves\, and a location to start collecting trash around town
 .  All trash and recycling collected from the event will be accepted for f
 ree (and weighed) at the Athol Transfer and Recycling Station. 3 tons were
  collected through this event last year - help us gather even more in 2025
 ! \n\nMeet up: 62 Freedom St\, Athol\, MA 01331-2250\, United States
X-WR-RELCALID:f931305e06f85a8a01f0248c5e2fb046
X-WR-TIMEZONE:America/New_York
BEGIN:VTIMEZONE
TZID:America/New_York
BEGIN:STANDARD
TZNAME:EST
DTSTART:20241103T020000
TZOFFSETFROM:-0400
TZOFFSETTO:-0500
RDATE:20251102T020000
END:STANDARD
BEGIN:DAYLIGHT
TZNAME:EDT
DTSTART:20250309T020000
TZOFFSETFROM:-0500
TZOFFSETTO:-0400
RDATE:20260308T020000
END:DAYLIGHT
END:VTIMEZONE
BEGIN:VEVENT
UID:6f3b0c01-b872-4a3a-9ac9-c8af352a0c27
DTSTAMP:20260420T125924Z
DESCRIPTION:Let's work to make our town shine! Meet us at the Lord Pond Pla
 za (Job Lot) Parking Lot by the Senior Center starting at 9am to pick up t
 rash bags\, gloves\, and a location to start collecting trash around town.
   All trash and recycling collected from the event will be accepted for fr
 ee (and weighed) at the Athol Transfer and Recycling Station. 3 tons were 
 collected through this event last year - help us gather even more in 2025!
  \n\nMeet up: 62 Freedom St\, Athol\, MA 01331-2250\, United States
DTSTART;TZID=America/New_York:20250419T090000
DTEND;TZID=America/New_York:20250419T120000
LOCATION:Athol\, MA
SUMMARY:Green Clean Athol - Spring Clean Up Day 2025
END:VEVENT
END:VCALENDAR
