BEGIN:VCALENDAR
VERSION:2.0
PRODID:-//keepmassbeautiful.org//NONSGML kigkonsult.se iCalcreator 2.30.10/
 /
CALSCALE:GREGORIAN
METHOD:PUBLISH
UID:935a754b-daa5-4448-bb64-35bbabf9cb18
X-WR-CALDESC:Join us on April 19th for the 8th annual community cleanup! Br
 ing your family\, friends\, and neighbors to help give the city of Attlebo
 ro a thorough spring cleaning! VOLUNTEER REGISTRATION FORM - To participat
 e\, head to our website and fill out a registration form–one form per volu
 nteer. Groups are also welcome to register. To register your group\, pleas
 e contact us at KeepAttleboroBeautiful@gmail.com. \n\nVOLUNTEER LOCATIONS:
  Specific locations will be assigned closer to the event date.
X-WR-RELCALID:6ee966fba31dd1ea93843d16392fdf7f
X-WR-TIMEZONE:America/New_York
BEGIN:VTIMEZONE
TZID:America/New_York
BEGIN:STANDARD
TZNAME:EST
DTSTART:20241103T020000
TZOFFSETFROM:-0400
TZOFFSETTO:-0500
RDATE:20251102T020000
END:STANDARD
BEGIN:DAYLIGHT
TZNAME:EDT
DTSTART:20250309T020000
TZOFFSETFROM:-0500
TZOFFSETTO:-0400
RDATE:20260308T020000
END:DAYLIGHT
END:VTIMEZONE
BEGIN:VEVENT
UID:617821e4-e81d-48d9-b9e6-e5bffd04da7f
DTSTAMP:20260420T123812Z
DESCRIPTION:Join us on April 19th for the 8th annual community cleanup! Bri
 ng your family\, friends\, and neighbors to help give the city of Attlebor
 o a thorough spring cleaning! VOLUNTEER REGISTRATION FORM - To participate
 \, head to our website and fill out a registration form–one form per volun
 teer. Groups are also welcome to register. To register your group\, please
  contact us at KeepAttleboroBeautiful@gmail.com. \n\nVOLUNTEER LOCATIONS: 
 Specific locations will be assigned closer to the event date.
DTSTART;TZID=America/New_York:20250419T100000
DTEND;TZID=America/New_York:20250419T120000
LOCATION:Attleboro\, MA
SUMMARY:Keep Attleboro Beautiful Community Cleanup
END:VEVENT
END:VCALENDAR
