BEGIN:VCALENDAR
VERSION:2.0
PRODID:-//keepmassbeautiful.org//NONSGML kigkonsult.se iCalcreator 2.30.10/
 /
CALSCALE:GREGORIAN
METHOD:PUBLISH
UID:aec7ee22-5bf5-4da2-8f30-3e537663b5cf
X-WR-CALDESC:Our cleanup is a town wide cleanup where people who live in th
 e town of Rehoboth come together and pick up the litter that gets thrown o
 n the side of the roads.
X-WR-RELCALID:ab449fbd21f2fffdc42773b03c6c6066
X-WR-TIMEZONE:America/New_York
BEGIN:VTIMEZONE
TZID:America/New_York
BEGIN:STANDARD
TZNAME:EST
DTSTART:20241103T020000
TZOFFSETFROM:-0400
TZOFFSETTO:-0500
RDATE:20251102T020000
END:STANDARD
BEGIN:DAYLIGHT
TZNAME:EDT
DTSTART:20250309T020000
TZOFFSETFROM:-0500
TZOFFSETTO:-0400
RDATE:20260308T020000
END:DAYLIGHT
END:VTIMEZONE
BEGIN:VEVENT
UID:882dec56-bd97-438f-a3f1-81e4ba304814
DTSTAMP:20260420T123812Z
DESCRIPTION:Our cleanup is a town wide cleanup where people who live in the
  town of Rehoboth come together and pick up the litter that gets thrown on
  the side of the roads.
DTSTART;TZID=America/New_York:20250419T060000
DTEND;TZID=America/New_York:20250426T060001
LOCATION:Rehoboth\, MA
SUMMARY:Keep Rehoboth Beautiful Cleanup
END:VEVENT
END:VCALENDAR
