BEGIN:VCALENDAR
VERSION:2.0
PRODID:-//keepmassbeautiful.org//NONSGML kigkonsult.se iCalcreator 2.30.10/
 /
CALSCALE:GREGORIAN
METHOD:PUBLISH
UID:145c26d3-bb93-4f29-bf50-745ff9700a90
X-WR-CALDESC:Please join Mayor Breanna Lungo-Koehn for the City's spring cl
 eanup on Saturday\, April 19th from 10 AM-12:30 PM! We're looking for VOLU
 NTEERS & AMBASSADORS to help pick up trash and debris to help make our nei
 ghborhoods & green spaces more vibrant for ALL to enjoy! WHAT IS A VOLUNTE
 ER? A VOLUNTEER is someone who wants to take part in the cleanup at a loca
 tion that has already been established. WHAT IS AN AMBASSADOR? A VOLUNTEER
  AMBASSADOR is someone who has requested an area for the clean.
X-WR-RELCALID:cae718b27312106dec7ccf4429c6e4f9
X-WR-TIMEZONE:America/New_York
BEGIN:VTIMEZONE
TZID:America/New_York
BEGIN:STANDARD
TZNAME:EST
DTSTART:20241103T020000
TZOFFSETFROM:-0400
TZOFFSETTO:-0500
RDATE:20251102T020000
END:STANDARD
BEGIN:DAYLIGHT
TZNAME:EDT
DTSTART:20250309T020000
TZOFFSETFROM:-0500
TZOFFSETTO:-0400
RDATE:20260308T020000
END:DAYLIGHT
END:VTIMEZONE
BEGIN:VEVENT
UID:7400801d-2ca6-44c6-800d-e7909e7b8415
DTSTAMP:20260420T130311Z
DESCRIPTION:Please join Mayor Breanna Lungo-Koehn for the City's spring cle
 anup on Saturday\, April 19th from 10 AM-12:30 PM! We're looking for VOLUN
 TEERS & AMBASSADORS to help pick up trash and debris to help make our neig
 hborhoods & green spaces more vibrant for ALL to enjoy! WHAT IS A VOLUNTEE
 R? A VOLUNTEER is someone who wants to take part in the cleanup at a locat
 ion that has already been established. WHAT IS AN AMBASSADOR? A VOLUNTEER 
 AMBASSADOR is someone who has requested an area for the clean.
DTSTART;TZID=America/New_York:20250419T100000
DTEND;TZID=America/New_York:20250419T123000
LOCATION:Medford\, MA
SUMMARY:Medford Citywide Cleanup
END:VEVENT
END:VCALENDAR
