BEGIN:VCALENDAR
VERSION:2.0
PRODID:-//keepmassbeautiful.org//NONSGML kigkonsult.se iCalcreator 2.30.10/
 /
CALSCALE:GREGORIAN
METHOD:PUBLISH
UID:578e1a49-7b2a-4a82-b9f4-fdd27906872b
X-WR-CALDESC:Love the Ave is our yearly cleanup of the Acushnet Ave neighbo
 rhoods. Free coffee and donuts\, free Pizza\, we provide all tools and bag
 s for the cleanup.\n\nMeet up: the parking lot at 1178 Acushnet Ave New Be
 dford.
X-WR-RELCALID:58b9a7ae3a1b6ea6f1fc804546463852
X-WR-TIMEZONE:America/New_York
BEGIN:VTIMEZONE
TZID:America/New_York
BEGIN:STANDARD
TZNAME:EST
DTSTART:20241103T020000
TZOFFSETFROM:-0400
TZOFFSETTO:-0500
RDATE:20251102T020000
END:STANDARD
BEGIN:DAYLIGHT
TZNAME:EDT
DTSTART:20250309T020000
TZOFFSETFROM:-0500
TZOFFSETTO:-0400
RDATE:20260308T020000
END:DAYLIGHT
END:VTIMEZONE
BEGIN:VEVENT
UID:ae5939f8-1ba0-4eb4-893a-4e7f55abf451
DTSTAMP:20260420T123947Z
DESCRIPTION:Love the Ave is our yearly cleanup of the Acushnet Ave neighbor
 hoods. Free coffee and donuts\, free Pizza\, we provide all tools and bags
  for the cleanup.\n\nMeet up: the parking lot at 1178 Acushnet Ave New Bed
 ford.
DTSTART;TZID=America/New_York:20250419T090000
DTEND;TZID=America/New_York:20250419T120000
LOCATION:New Bedford\, MA
SUMMARY:Operation Clean Sweep (New Bedford)
END:VEVENT
END:VCALENDAR
