BEGIN:VCALENDAR
VERSION:2.0
PRODID:-//keepmassbeautiful.org//NONSGML kigkonsult.se iCalcreator 2.30.10/
 /
CALSCALE:GREGORIAN
METHOD:PUBLISH
UID:fb6f5815-dfc4-4321-b65a-1be7f22b81c0
X-WR-CALDESC:The day marks the start of the U.S. environmental movement in 
 1970\, and for the past 50+ years has resulted in policy change and a grea
 ter awareness of the environment. \n
X-WR-RELCALID:5b63715749616f4d47aeb7073dce143d
X-WR-TIMEZONE:America/New_York
BEGIN:VTIMEZONE
TZID:America/New_York
BEGIN:STANDARD
TZNAME:EST
DTSTART:20241103T020000
TZOFFSETFROM:-0400
TZOFFSETTO:-0500
RDATE:20251102T020000
END:STANDARD
BEGIN:DAYLIGHT
TZNAME:EDT
DTSTART:20250309T020000
TZOFFSETFROM:-0500
TZOFFSETTO:-0400
RDATE:20260308T020000
END:DAYLIGHT
END:VTIMEZONE
BEGIN:VEVENT
UID:cad9c188-ac0d-4d8f-bb63-9b127d8b032a
DTSTAMP:20260420T130140Z
DESCRIPTION:The day marks the start of the U.S. environmental movement in 1
 970\, and for the past 50+ years has resulted in policy change and a great
 er awareness of the environment. \n
DTSTART;TZID=America/New_York:20250422T000000
DTEND;TZID=America/New_York:20250422T235900
LOCATION:
SUMMARY:Earth Day
END:VEVENT
END:VCALENDAR
