BEGIN:VCALENDAR
VERSION:2.0
PRODID:-//keepmassbeautiful.org//NONSGML kigkonsult.se iCalcreator 2.30.10/
 /
CALSCALE:GREGORIAN
METHOD:PUBLISH
UID:0b593ff8-ee07-44cb-880a-96166957eb7c
X-WR-CALDESC:By land or by sea! Help us keep the Little Bay Conservation Ar
 ea beautiful. Kayak rentals available for $15 for this event. Reserve ahea
 d of time. \n\nMeet up at Monks Park in Bourne
X-WR-RELCALID:6da13fa75c84cb7c90f18c52180c112b
X-WR-TIMEZONE:America/New_York
BEGIN:VTIMEZONE
TZID:America/New_York
BEGIN:STANDARD
TZNAME:EST
DTSTART:20241103T020000
TZOFFSETFROM:-0400
TZOFFSETTO:-0500
RDATE:20251102T020000
END:STANDARD
BEGIN:DAYLIGHT
TZNAME:EDT
DTSTART:20250309T020000
TZOFFSETFROM:-0500
TZOFFSETTO:-0400
RDATE:20260308T020000
END:DAYLIGHT
END:VTIMEZONE
BEGIN:VEVENT
UID:564d57c8-7bbe-4d73-bf6c-b0c98f18f294
DTSTAMP:20260420T123956Z
DESCRIPTION:By land or by sea! Help us keep the Little Bay Conservation Are
 a beautiful. Kayak rentals available for $15 for this event. Reserve ahead
  of time. \n\nMeet up at Monks Park in Bourne
DTSTART;TZID=America/New_York:20250422T100000
DTEND;TZID=America/New_York:20250422T140000
LOCATION:Bourne\, MA
SUMMARY:Cape Cod Earth Day Cleanup by Land or by Sea
END:VEVENT
END:VCALENDAR
