BEGIN:VCALENDAR
VERSION:2.0
PRODID:-//keepmassbeautiful.org//NONSGML kigkonsult.se iCalcreator 2.30.10/
 /
CALSCALE:GREGORIAN
METHOD:PUBLISH
UID:df357609-39b5-4628-86b6-b7c51c3649d0
X-WR-CALDESC:For over 35 years\, Champ Homes has provided Transitional Hous
 ing to those experiencing homelessness on Cape Cod. Our Champs have been s
 upported by the community in so many ways\, and this is one way we can giv
 e back. Join us on Tuesday 4/22/25 to clean up 5-6 miles of road\, 3 local
  beaches\, the JFK and Korean War Memorials\, Village Green\, Ocean Street
  Docks\, and much of downtown Hyannis. We will meet at 9 AM\, break into s
 mall groups\, canvas the area and return by 11:30. \n\nMeet up Hyannis Vil
 lage Green
X-WR-RELCALID:a864ba720ce58ecd6a9ef887b35ac8ac
X-WR-TIMEZONE:America/New_York
BEGIN:VTIMEZONE
TZID:America/New_York
BEGIN:STANDARD
TZNAME:EST
DTSTART:20241103T020000
TZOFFSETFROM:-0400
TZOFFSETTO:-0500
RDATE:20251102T020000
END:STANDARD
BEGIN:DAYLIGHT
TZNAME:EDT
DTSTART:20250309T020000
TZOFFSETFROM:-0500
TZOFFSETTO:-0400
RDATE:20260308T020000
END:DAYLIGHT
END:VTIMEZONE
BEGIN:VEVENT
UID:a10fd782-0677-42ca-a9b0-54f7b88a8f90
DTSTAMP:20260420T124737Z
DESCRIPTION:For over 35 years\, Champ Homes has provided Transitional Housi
 ng to those experiencing homelessness on Cape Cod. Our Champs have been su
 pported by the community in so many ways\, and this is one way we can give
  back. Join us on Tuesday 4/22/25 to clean up 5-6 miles of road\, 3 local 
 beaches\, the JFK and Korean War Memorials\, Village Green\, Ocean Street 
 Docks\, and much of downtown Hyannis. We will meet at 9 AM\, break into sm
 all groups\, canvas the area and return by 11:30. \n\nMeet up Hyannis Vill
 age Green
DTSTART;TZID=America/New_York:20250422T090000
DTEND;TZID=America/New_York:20250422T113000
LOCATION:Hyannis\, MA
SUMMARY:Champ Homes 5th Annual Earth Day Cleanup of Hyannis
END:VEVENT
END:VCALENDAR
