BEGIN:VCALENDAR
VERSION:2.0
PRODID:-//keepmassbeautiful.org//NONSGML kigkonsult.se iCalcreator 2.30.10/
 /
CALSCALE:GREGORIAN
METHOD:PUBLISH
UID:c0ae64df-c71c-4a5a-9a5e-0fcf287f3401
X-WR-CALDESC:Keep Framingham Beautiful annual cleanup of the Framingham Cen
 tre Business District the day before the annual Framingham Earth Day Festi
 val. \n\nMeet up: Village Hall on the Common\, 2 Oak St\, Framingham\, MA 
 01701
X-WR-RELCALID:d12b83df0175da93aa5c279012e32d00
X-WR-TIMEZONE:America/New_York
BEGIN:VTIMEZONE
TZID:America/New_York
BEGIN:STANDARD
TZNAME:EST
DTSTART:20241103T020000
TZOFFSETFROM:-0400
TZOFFSETTO:-0500
RDATE:20251102T020000
END:STANDARD
BEGIN:DAYLIGHT
TZNAME:EDT
DTSTART:20250309T020000
TZOFFSETFROM:-0500
TZOFFSETTO:-0400
RDATE:20260308T020000
END:DAYLIGHT
END:VTIMEZONE
BEGIN:VEVENT
UID:bf45c557-0aa6-48ce-a079-552a8cb06bff
DTSTAMP:20260420T123700Z
DESCRIPTION:Keep Framingham Beautiful annual cleanup of the Framingham Cent
 re Business District the day before the annual Framingham Earth Day Festiv
 al. \n\nMeet up: Village Hall on the Common\, 2 Oak St\, Framingham\, MA 0
 1701
DTSTART;TZID=America/New_York:20250425T100000
DTEND;TZID=America/New_York:20250425T113000
LOCATION:Framingham\, MA
SUMMARY:Framingham Centre Cleanup
END:VEVENT
END:VCALENDAR
