BEGIN:VCALENDAR
VERSION:2.0
PRODID:-//keepmassbeautiful.org//NONSGML kigkonsult.se iCalcreator 2.30.10/
 /
CALSCALE:GREGORIAN
METHOD:PUBLISH
UID:75111fde-f900-439f-815c-554bb268e9b6
X-WR-CALDESC:The Earth Day Charles River Cleanup builds on a national effor
 t as part of American Rivers National River Cleanup®. By volunteering with
  CRWA\, you can participate in the cleanup of the parks\, forests\, and pa
 ths along the upper portion of our river. We host sites in towns throughou
 t the watershed\; whether you live in Hopkinton\, Boston\, or anywhere in 
 between\, we have a site for you\, your friends\, or your community group.
  Be a part of this impactful event to help keep our river clean and thrivi
 ng.
X-WR-RELCALID:ddcba0fd618555afd292f77e72fb37c8
X-WR-TIMEZONE:America/New_York
BEGIN:VTIMEZONE
TZID:America/New_York
BEGIN:STANDARD
TZNAME:EST
DTSTART:20241103T020000
TZOFFSETFROM:-0400
TZOFFSETTO:-0500
RDATE:20251102T020000
END:STANDARD
BEGIN:DAYLIGHT
TZNAME:EDT
DTSTART:20250309T020000
TZOFFSETFROM:-0500
TZOFFSETTO:-0400
RDATE:20260308T020000
END:DAYLIGHT
END:VTIMEZONE
BEGIN:VEVENT
UID:4a9070fb-5248-4531-a455-fafb63fa9f95
DTSTAMP:20260420T130445Z
DESCRIPTION:The Earth Day Charles River Cleanup builds on a national effort
  as part of American Rivers National River Cleanup®. By volunteering with 
 CRWA\, you can participate in the cleanup of the parks\, forests\, and pat
 hs along the upper portion of our river. We host sites in towns throughout
  the watershed\; whether you live in Hopkinton\, Boston\, or anywhere in b
 etween\, we have a site for you\, your friends\, or your community group. 
 Be a part of this impactful event to help keep our river clean and thrivin
 g.
DTSTART;TZID=America/New_York:20250426T100000
DTEND;TZID=America/New_York:20250426T120000
LOCATION:Newton\, Weston\, Wellesley\, Dedham\, and more locations west thr
 ough the Upper Charles River Watershed.
SUMMARY:26th Annual Earth Day Charles River Cleanup
END:VEVENT
END:VCALENDAR
