BEGIN:VCALENDAR
VERSION:2.0
PRODID:-//keepmassbeautiful.org//NONSGML kigkonsult.se iCalcreator 2.30.10/
 /
CALSCALE:GREGORIAN
METHOD:PUBLISH
UID:1d7cb519-a0ab-435d-b9cb-8fbac145aaf1
X-WR-CALDESC:Keep Salem Beautiful and the Salem Beautification Committee ha
 ve joined forces once again to host this litter-busting event to kick-off 
 Spring in our beautiful City! This event is rain or shine. \n\nPlease Choo
 se ONE location listed in the registration form.\n\nIf you have any 5 gall
 on buckets\, trash grabbers\, brooms\, or any other things that can help u
 s clean up the streets\, please bring them with you as supplies may be lim
 ited!
X-WR-RELCALID:e58a34c803c606464150f19bf65083ed
X-WR-TIMEZONE:America/New_York
BEGIN:VTIMEZONE
TZID:America/New_York
BEGIN:STANDARD
TZNAME:EST
DTSTART:20241103T020000
TZOFFSETFROM:-0400
TZOFFSETTO:-0500
RDATE:20251102T020000
END:STANDARD
BEGIN:DAYLIGHT
TZNAME:EDT
DTSTART:20250309T020000
TZOFFSETFROM:-0500
TZOFFSETTO:-0400
RDATE:20260308T020000
END:DAYLIGHT
END:VTIMEZONE
BEGIN:VEVENT
UID:84ae3756-cb68-433e-b06e-6238692095a5
DTSTAMP:20260420T123947Z
DESCRIPTION:Keep Salem Beautiful and the Salem Beautification Committee hav
 e joined forces once again to host this litter-busting event to kick-off S
 pring in our beautiful City! This event is rain or shine. \n\nPlease Choos
 e ONE location listed in the registration form.\n\nIf you have any 5 gallo
 n buckets\, trash grabbers\, brooms\, or any other things that can help us
  clean up the streets\, please bring them with you as supplies may be limi
 ted!
DTSTART;TZID=America/New_York:20250426T100000
DTEND;TZID=America/New_York:20250426T120000
LOCATION:Salem\, MA
SUMMARY:4th Annual Great Salem Cleanup
END:VEVENT
END:VCALENDAR
