BEGIN:VCALENDAR
VERSION:2.0
PRODID:-//keepmassbeautiful.org//NONSGML kigkonsult.se iCalcreator 2.30.10/
 /
CALSCALE:GREGORIAN
METHOD:PUBLISH
UID:5263a565-582e-4b40-b329-3197d1cd75bb
X-WR-CALDESC:Keep Ashby Beautiful invites everyone in the Ashby community t
 o participate in a town wide spring cleanup day scheduled for Saturday\, A
 pril 26th. We will be providing clear plastic bags and sanitary gloves for
  people to use for litter pickup at the Ashby Market. We are also excited 
 to have the support from Murray and Sons Waste Management. They will be as
 sisting with trash pickup. We are looking for as many volunteers and organ
 izers to help make this a successful town wide event!
X-WR-RELCALID:063ec8df0fec9db0ef2204fd0ef63aeb
X-WR-TIMEZONE:America/New_York
BEGIN:VTIMEZONE
TZID:America/New_York
BEGIN:STANDARD
TZNAME:EST
DTSTART:20241103T020000
TZOFFSETFROM:-0400
TZOFFSETTO:-0500
RDATE:20251102T020000
END:STANDARD
BEGIN:DAYLIGHT
TZNAME:EDT
DTSTART:20250309T020000
TZOFFSETFROM:-0500
TZOFFSETTO:-0400
RDATE:20260308T020000
END:DAYLIGHT
END:VTIMEZONE
BEGIN:VEVENT
UID:5f848b47-dc49-46cf-9940-2afe77e36019
DTSTAMP:20260420T125144Z
DESCRIPTION:Keep Ashby Beautiful invites everyone in the Ashby community to
  participate in a town wide spring cleanup day scheduled for Saturday\, Ap
 ril 26th. We will be providing clear plastic bags and sanitary gloves for 
 people to use for litter pickup at the Ashby Market. We are also excited t
 o have the support from Murray and Sons Waste Management. They will be ass
 isting with trash pickup. We are looking for as many volunteers and organi
 zers to help make this a successful town wide event!
DTSTART;TZID=America/New_York:20250426T060000
DTEND;TZID=America/New_York:20250426T060001
LOCATION:Ashby\, MA
SUMMARY:6th Annual Ashby Townwide Cleanup
END:VEVENT
END:VCALENDAR
