BEGIN:VCALENDAR
VERSION:2.0
PRODID:-//keepmassbeautiful.org//NONSGML kigkonsult.se iCalcreator 2.30.10/
 /
CALSCALE:GREGORIAN
METHOD:PUBLISH
UID:e43aff28-11f5-476a-8a0f-82ecfaee70c8
X-WR-CALDESC:Boylston's 10th Annual Town Wide Litter Clean Up 2025 \n\nClea
 nup Kits will be supplied from 8:30-11 the Saturday morning of the clean u
 p at 385 Main Street. Registration required for a cleanup kit.
X-WR-RELCALID:192bcb025679e39b4f47916a646603fd
X-WR-TIMEZONE:America/New_York
BEGIN:VTIMEZONE
TZID:America/New_York
BEGIN:STANDARD
TZNAME:EST
DTSTART:20241103T020000
TZOFFSETFROM:-0400
TZOFFSETTO:-0500
RDATE:20251102T020000
END:STANDARD
BEGIN:DAYLIGHT
TZNAME:EDT
DTSTART:20250309T020000
TZOFFSETFROM:-0500
TZOFFSETTO:-0400
RDATE:20260308T020000
END:DAYLIGHT
END:VTIMEZONE
BEGIN:VEVENT
UID:f70a028e-9253-497f-b78b-3f97ef4c0561
DTSTAMP:20260420T125143Z
DESCRIPTION:Boylston's 10th Annual Town Wide Litter Clean Up 2025 \n\nClean
 up Kits will be supplied from 8:30-11 the Saturday morning of the clean up
  at 385 Main Street. Registration required for a cleanup kit.
DTSTART;TZID=America/New_York:20250426T083000
DTEND;TZID=America/New_York:20250427T170000
LOCATION:Boylston\, MA
SUMMARY:Boylston's 10th Annual Town Wide Litter Clean Up 2025
END:VEVENT
END:VCALENDAR
