BEGIN:VCALENDAR
VERSION:2.0
PRODID:-//keepmassbeautiful.org//NONSGML kigkonsult.se iCalcreator 2.30.10/
 /
CALSCALE:GREGORIAN
METHOD:PUBLISH
UID:1b17a918-4585-4c26-9a12-bcc1dc205257
X-WR-CALDESC:Join us at Charlton’s 2025 Earth Day Townwide Cleanup and Eart
 h Fest! You can register for the cleanup on the morning of the event or ea
 rlier online. Starting at 11AM on the town common Earth Fest will have ear
 th-friendly vendors\, music\, food trucks and environmental education. Fun
  for all! \n\nMeet up: Charlton Common
X-WR-RELCALID:52ec21692aee349381c64fb213a0b428
X-WR-TIMEZONE:America/New_York
BEGIN:VTIMEZONE
TZID:America/New_York
BEGIN:STANDARD
TZNAME:EST
DTSTART:20241103T020000
TZOFFSETFROM:-0400
TZOFFSETTO:-0500
RDATE:20251102T020000
END:STANDARD
BEGIN:DAYLIGHT
TZNAME:EDT
DTSTART:20250309T020000
TZOFFSETFROM:-0500
TZOFFSETTO:-0400
RDATE:20260308T020000
END:DAYLIGHT
END:VTIMEZONE
BEGIN:VEVENT
UID:60eb7bd0-59fa-48d3-bba4-2d979a003de4
DTSTAMP:20260420T130150Z
DESCRIPTION:Join us at Charlton’s 2025 Earth Day Townwide Cleanup and Earth
  Fest! You can register for the cleanup on the morning of the event or ear
 lier online. Starting at 11AM on the town common Earth Fest will have eart
 h-friendly vendors\, music\, food trucks and environmental education. Fun 
 for all! \n\nMeet up: Charlton Common
DTSTART;TZID=America/New_York:20250426T080000
DTEND;TZID=America/New_York:20250426T140000
LOCATION:Charlton\, MA
SUMMARY:Charlton Townwide Cleanup & Earth Fest
END:VEVENT
END:VCALENDAR
