BEGIN:VCALENDAR
VERSION:2.0
PRODID:-//keepmassbeautiful.org//NONSGML kigkonsult.se iCalcreator 2.30.10/
 /
CALSCALE:GREGORIAN
METHOD:PUBLISH
UID:716ffa86-eaa3-4348-ba46-70294717f0ab
X-WR-CALDESC:The 2025 Billerica Clean Up Green Up Day is scheduled for Satu
 rday 4/26/25 from 10AM to 12PM. Sign-up via Facebook link to recieve bags 
 and gloves for the event! Come join other residents cleaning up many areas
  of town to help Beautify Billerica!
X-WR-RELCALID:f980807e7a9a9e2746292de8696c6c03
X-WR-TIMEZONE:America/New_York
BEGIN:VTIMEZONE
TZID:America/New_York
BEGIN:STANDARD
TZNAME:EST
DTSTART:20241103T020000
TZOFFSETFROM:-0400
TZOFFSETTO:-0500
RDATE:20251102T020000
END:STANDARD
BEGIN:DAYLIGHT
TZNAME:EDT
DTSTART:20250309T020000
TZOFFSETFROM:-0500
TZOFFSETTO:-0400
RDATE:20260308T020000
END:DAYLIGHT
END:VTIMEZONE
BEGIN:VEVENT
UID:55fb1388-804f-4b05-bf37-3745fc1eaa43
DTSTAMP:20260420T125654Z
DESCRIPTION:The 2025 Billerica Clean Up Green Up Day is scheduled for Satur
 day 4/26/25 from 10AM to 12PM. Sign-up via Facebook link to recieve bags a
 nd gloves for the event! Come join other residents cleaning up many areas 
 of town to help Beautify Billerica!
DTSTART;TZID=America/New_York:20250426T100000
DTEND;TZID=America/New_York:20250426T120000
LOCATION:Billerica\, MA
SUMMARY:Clean Up Green Up Day (Billerica)
END:VEVENT
END:VCALENDAR
