BEGIN:VCALENDAR
VERSION:2.0
PRODID:-//keepmassbeautiful.org//NONSGML kigkonsult.se iCalcreator 2.30.10/
 /
CALSCALE:GREGORIAN
METHOD:PUBLISH
UID:065bc802-c555-4b52-a0cf-f15c3e43d175
X-WR-CALDESC:Help us celebrate Earth Day by making Danvers cleaner and gree
 ner! On Saturday\, April 26\, 2025\, from 9:00 AM – 12:00 PM\, the Danvers
  DPW invites residents\, schools\, youth leagues\, neighborhood groups\, c
 lubs\, Scouts\, faith organizations\, and individuals to take part in this
  rewarding community event. Meet us on the Town Hall Front Lawn to kick of
 f the clean-up! This is a fantastic opportunity to beautify our town\, con
 nect with neighbors\, and make a real difference. \n\nMeet up at the lawn 
 of the Town Hall\, 1 Sylvan Street\, Danvers
X-WR-RELCALID:b5d2e94809e7bbc47479b116e92bb8c6
X-WR-TIMEZONE:America/New_York
BEGIN:VTIMEZONE
TZID:America/New_York
BEGIN:STANDARD
TZNAME:EST
DTSTART:20241103T020000
TZOFFSETFROM:-0400
TZOFFSETTO:-0500
RDATE:20251102T020000
END:STANDARD
BEGIN:DAYLIGHT
TZNAME:EDT
DTSTART:20250309T020000
TZOFFSETFROM:-0500
TZOFFSETTO:-0400
RDATE:20260308T020000
END:DAYLIGHT
END:VTIMEZONE
BEGIN:VEVENT
UID:114bf421-bddd-4f2f-846d-97450a7d3775
DTSTAMP:20260420T125654Z
DESCRIPTION:Help us celebrate Earth Day by making Danvers cleaner and green
 er! On Saturday\, April 26\, 2025\, from 9:00 AM – 12:00 PM\, the Danvers 
 DPW invites residents\, schools\, youth leagues\, neighborhood groups\, cl
 ubs\, Scouts\, faith organizations\, and individuals to take part in this 
 rewarding community event. Meet us on the Town Hall Front Lawn to kick off
  the clean-up! This is a fantastic opportunity to beautify our town\, conn
 ect with neighbors\, and make a real difference. \n\nMeet up at the lawn o
 f the Town Hall\, 1 Sylvan Street\, Danvers
DTSTART;TZID=America/New_York:20250426T090000
DTEND;TZID=America/New_York:20250426T120000
LOCATION:Danvers\, MA
SUMMARY:Danvers Town Wide Cleanup
END:VEVENT
END:VCALENDAR
