BEGIN:VCALENDAR
VERSION:2.0
PRODID:-//keepmassbeautiful.org//NONSGML kigkonsult.se iCalcreator 2.30.10/
 /
CALSCALE:GREGORIAN
METHOD:PUBLISH
UID:8d926fe7-f8ad-4c4a-9e3a-f311d57e1832
X-WR-CALDESC:Celebrate Earth Day! Join North County Land Trust and partners
  on April 26\, 2025 from 10am–12pm at Gateway Park and Community Garden in
  Fitchburg for a day of cleaning up the park\, prepping the garden area fo
 r a summer of growing\, and cleaning up the trails to keep the park ready 
 for public enjoyment. \n\nJoin us for a wonderful day of community service
  and giving back to our Earth! North County Land Trust will provide tools 
 and materials for folks to use. Feel free to bring your own hand tools\, g
 loves\, and water.\n\nMeet up location: Gateway Park and Community Garden\
 , 41 Sheldon Street\, Fitchburg
X-WR-RELCALID:75387e8f5f1acdb67d619e4eb379e3cb
X-WR-TIMEZONE:America/New_York
BEGIN:VTIMEZONE
TZID:America/New_York
BEGIN:STANDARD
TZNAME:EST
DTSTART:20241103T020000
TZOFFSETFROM:-0400
TZOFFSETTO:-0500
RDATE:20251102T020000
END:STANDARD
BEGIN:DAYLIGHT
TZNAME:EDT
DTSTART:20250309T020000
TZOFFSETFROM:-0500
TZOFFSETTO:-0400
RDATE:20260308T020000
END:DAYLIGHT
END:VTIMEZONE
BEGIN:VEVENT
UID:c70ebefa-f210-4896-9c09-2c83289b42b7
DTSTAMP:20260420T124440Z
DESCRIPTION:Celebrate Earth Day! Join North County Land Trust and partners 
 on April 26\, 2025 from 10am–12pm at Gateway Park and Community Garden in 
 Fitchburg for a day of cleaning up the park\, prepping the garden area for
  a summer of growing\, and cleaning up the trails to keep the park ready f
 or public enjoyment. \n\nJoin us for a wonderful day of community service 
 and giving back to our Earth! North County Land Trust will provide tools a
 nd materials for folks to use. Feel free to bring your own hand tools\, gl
 oves\, and water.\n\nMeet up location: Gateway Park and Community Garden\,
  41 Sheldon Street\, Fitchburg
DTSTART;TZID=America/New_York:20250426T100000
DTEND;TZID=America/New_York:20250426T120000
LOCATION:Fitchburg\, MA
SUMMARY:Fitchburg Gateway Park & Gateway Park Community Garden Cleanup
END:VEVENT
END:VCALENDAR
