BEGIN:VCALENDAR
VERSION:2.0
PRODID:-//keepmassbeautiful.org//NONSGML kigkonsult.se iCalcreator 2.30.10/
 /
CALSCALE:GREGORIAN
METHOD:PUBLISH
UID:542c1ed0-b901-4a24-9ce6-be0c0c80228b
X-WR-CALDESC:Save the DATE for the 2025 Great Fitchburg City Cleanups! Join
  us to clean our streets and parks of litter and debris. Please bring frie
 nds with work gloves and a helping hand. We provide bags\, Plastic gloves 
 and disposal. City Cleanups and Events are 8AM - 12PM \n\nMeet up: Daniels
  St. Park\, Fitchburg
X-WR-RELCALID:cfb4c974f5a17b4489f9aa291c22d69a
X-WR-TIMEZONE:America/New_York
BEGIN:VTIMEZONE
TZID:America/New_York
BEGIN:STANDARD
TZNAME:EST
DTSTART:20241103T020000
TZOFFSETFROM:-0400
TZOFFSETTO:-0500
RDATE:20251102T020000
END:STANDARD
BEGIN:DAYLIGHT
TZNAME:EDT
DTSTART:20250309T020000
TZOFFSETFROM:-0500
TZOFFSETTO:-0400
RDATE:20260308T020000
END:DAYLIGHT
END:VTIMEZONE
BEGIN:VEVENT
UID:25d5eb8f-a3f6-4847-934a-ae4f1ce6cb01
DTSTAMP:20260420T125833Z
DESCRIPTION:Save the DATE for the 2025 Great Fitchburg City Cleanups! Join 
 us to clean our streets and parks of litter and debris. Please bring frien
 ds with work gloves and a helping hand. We provide bags\, Plastic gloves a
 nd disposal. City Cleanups and Events are 8AM - 12PM \n\nMeet up: Daniels 
 St. Park\, Fitchburg
DTSTART;TZID=America/New_York:20250426T080000
DTEND;TZID=America/New_York:20250426T120000
LOCATION:Fitchburg\, MA
SUMMARY:Great Fitchburg City Cleanup
END:VEVENT
END:VCALENDAR
