BEGIN:VCALENDAR
VERSION:2.0
PRODID:-//keepmassbeautiful.org//NONSGML kigkonsult.se iCalcreator 2.30.10/
 /
CALSCALE:GREGORIAN
METHOD:PUBLISH
UID:e79689d5-93f2-4f8c-b035-4bb8dad44e00
X-WR-CALDESC:Come join us on April 26\, 2025 for a great day with family an
 d friends and oh by the way we will clean our town too!
X-WR-RELCALID:23f15d060ef16038d4ac17e37d4bdead
X-WR-TIMEZONE:America/New_York
BEGIN:VTIMEZONE
TZID:America/New_York
BEGIN:STANDARD
TZNAME:EST
DTSTART:20241103T020000
TZOFFSETFROM:-0400
TZOFFSETTO:-0500
RDATE:20251102T020000
END:STANDARD
BEGIN:DAYLIGHT
TZNAME:EDT
DTSTART:20250309T020000
TZOFFSETFROM:-0500
TZOFFSETTO:-0400
RDATE:20260308T020000
END:DAYLIGHT
END:VTIMEZONE
BEGIN:VEVENT
UID:17fca034-976e-4dd1-8e7c-41f1e65e9771
DTSTAMP:20260420T123847Z
DESCRIPTION:Come join us on April 26\, 2025 for a great day with family and
  friends and oh by the way we will clean our town too!
DTSTART;TZID=America/New_York:20250426T090000
DTEND;TZID=America/New_York:20250426T130000
LOCATION:Mansfield\, MA
SUMMARY:Great Mansfield Cleanup
END:VEVENT
END:VCALENDAR
