BEGIN:VCALENDAR
VERSION:2.0
PRODID:-//keepmassbeautiful.org//NONSGML kigkonsult.se iCalcreator 2.30.10/
 /
CALSCALE:GREGORIAN
METHOD:PUBLISH
UID:f7b83bb9-10d0-4d8c-86c5-c2b15ecb722f
X-WR-CALDESC:This is our Annual Town Wide event which is well attended ever
 y year. “Keep Randolph Beautiful” is a community of folks that live or wor
 k in Randolph and want our town to be as beautiful as possible. \n\nMeet u
 p at the Randolph Town Hall in the Main Lobby
X-WR-RELCALID:bb954c10417508bedd478ce051d3af6f
X-WR-TIMEZONE:America/New_York
BEGIN:VTIMEZONE
TZID:America/New_York
BEGIN:STANDARD
TZNAME:EST
DTSTART:20241103T020000
TZOFFSETFROM:-0400
TZOFFSETTO:-0500
RDATE:20251102T020000
END:STANDARD
BEGIN:DAYLIGHT
TZNAME:EDT
DTSTART:20250309T020000
TZOFFSETFROM:-0500
TZOFFSETTO:-0400
RDATE:20260308T020000
END:DAYLIGHT
END:VTIMEZONE
BEGIN:VEVENT
UID:b1418f9b-65dd-474e-9190-5ae8bb25c2ba
DTSTAMP:20260420T123639Z
DESCRIPTION:This is our Annual Town Wide event which is well attended every
  year. “Keep Randolph Beautiful” is a community of folks that live or work
  in Randolph and want our town to be as beautiful as possible. \n\nMeet up
  at the Randolph Town Hall in the Main Lobby
DTSTART;TZID=America/New_York:20250426T080000
DTEND;TZID=America/New_York:20250426T120000
LOCATION:Randolph\, MA
SUMMARY:Keep Randolph Beautiful
END:VEVENT
END:VCALENDAR
