BEGIN:VCALENDAR
VERSION:2.0
PRODID:-//keepmassbeautiful.org//NONSGML kigkonsult.se iCalcreator 2.30.10/
 /
CALSCALE:GREGORIAN
METHOD:PUBLISH
UID:ec8ce4c4-ba92-4677-a688-06bfcaa174fc
X-WR-CALDESC:Gather your group\, club\, church\, neighbors\, family or frie
 nds and help spruce up and beautify our town!\n\nSign up for a location by
  clicking this link and collect trash and debris\, placing it in a designa
 ted town clean-up bag. Town staff will collect the bags after 12:00 pm at 
 a predetermined location.\n\nBags\, work gloves & grabbers will be provide
 d between 8:00 am - 9:00 am while supplies last on Saturday\, April 26 at 
 Shrewsbury Town Hall (100 Maple Ave)\n\nYour group can meet at your locati
 on at a time convenient for you between 9:00 am-12:00 pm on Saturday\, Apr
 il 26. It is recommended to work in groups of 12 people or less.\n
X-WR-RELCALID:81f86bfcc77b00013b73d612be2ea0dc
X-WR-TIMEZONE:America/New_York
BEGIN:VTIMEZONE
TZID:America/New_York
BEGIN:STANDARD
TZNAME:EST
DTSTART:20241103T020000
TZOFFSETFROM:-0400
TZOFFSETTO:-0500
RDATE:20251102T020000
END:STANDARD
BEGIN:DAYLIGHT
TZNAME:EDT
DTSTART:20250309T020000
TZOFFSETFROM:-0500
TZOFFSETTO:-0400
RDATE:20260308T020000
END:DAYLIGHT
END:VTIMEZONE
BEGIN:VEVENT
UID:c9243fa3-fc86-42d0-bbef-fa18711881d2
DTSTAMP:20260420T125736Z
DESCRIPTION:Gather your group\, club\, church\, neighbors\, family or frien
 ds and help spruce up and beautify our town!\n\nSign up for a location by 
 clicking this link and collect trash and debris\, placing it in a designat
 ed town clean-up bag. Town staff will collect the bags after 12:00 pm at a
  predetermined location.\n\nBags\, work gloves & grabbers will be provided
  between 8:00 am - 9:00 am while supplies last on Saturday\, April 26 at S
 hrewsbury Town Hall (100 Maple Ave)\n\nYour group can meet at your locatio
 n at a time convenient for you between 9:00 am-12:00 pm on Saturday\, Apri
 l 26. It is recommended to work in groups of 12 people or less.\n
DTSTART;TZID=America/New_York:20250426T090000
DTEND;TZID=America/New_York:20250426T120000
LOCATION:Shrewsbury\, MA
SUMMARY:Keep Shrewsbury Beautiful Spring Town Cleanup
END:VEVENT
END:VCALENDAR
