BEGIN:VCALENDAR
VERSION:2.0
PRODID:-//keepmassbeautiful.org//NONSGML kigkonsult.se iCalcreator 2.30.10/
 /
CALSCALE:GREGORIAN
METHOD:PUBLISH
UID:3bc2bfd4-d87e-4ea8-a7d7-37fbfdaa45c6
X-WR-CALDESC:Fifth Annual Clean Up • Come together as friends and neighbors
  for our Annual De-Trash Ashburnham Roadside Clean Up. You Bag it We Shag 
 it. Free ice cream\, clean streets and pride in your town are the rewards 
 for your effort. Clean streets are something that we can all agree on.\n\n
 Meet up: Ashburnham Marketplace Parking lot/Ashburnham Wine and Spirits
X-WR-RELCALID:d03178a9d3b66eedd7290a5529ee23c0
X-WR-TIMEZONE:America/New_York
BEGIN:VTIMEZONE
TZID:America/New_York
BEGIN:STANDARD
TZNAME:EST
DTSTART:20241103T020000
TZOFFSETFROM:-0400
TZOFFSETTO:-0500
RDATE:20251102T020000
END:STANDARD
BEGIN:DAYLIGHT
TZNAME:EDT
DTSTART:20250309T020000
TZOFFSETFROM:-0500
TZOFFSETTO:-0400
RDATE:20260308T020000
END:DAYLIGHT
END:VTIMEZONE
BEGIN:VEVENT
UID:31ffe72f-c313-465e-bf5b-6b3dba50a720
DTSTAMP:20260420T130139Z
DESCRIPTION:Fifth Annual Clean Up • Come together as friends and neighbors 
 for our Annual De-Trash Ashburnham Roadside Clean Up. You Bag it We Shag i
 t. Free ice cream\, clean streets and pride in your town are the rewards f
 or your effort. Clean streets are something that we can all agree on.\n\nM
 eet up: Ashburnham Marketplace Parking lot/Ashburnham Wine and Spirits
DTSTART;TZID=America/New_York:20250426T080000
DTEND;TZID=America/New_York:20250426T170000
LOCATION:Ashburnham\, MA
SUMMARY:Litter League to DeTrash Ashburnham
END:VEVENT
END:VCALENDAR
