BEGIN:VCALENDAR
VERSION:2.0
PRODID:-//keepmassbeautiful.org//NONSGML kigkonsult.se iCalcreator 2.30.10/
 /
CALSCALE:GREGORIAN
METHOD:PUBLISH
UID:ab1c4633-8330-422f-8ecf-d4d5ca038ade
X-WR-CALDESC:The Neponset River Watershed Association (NepRWA) and a coalit
 ion of regional partners are excited to announce the return of the Neponse
 t River Spring Cleanup on Saturday\, April 26th\, from 9:00 am to 12:00 pm
 . Volunteers will gather and cleanup trash at sites across Canton\, Dorche
 ster\, Hyde Park\, Milton\, Mattapan\, Norwood\, and Quincy.
X-WR-RELCALID:4de68d5e3f23c582c8b7ec1d53fdd13c
X-WR-TIMEZONE:America/New_York
BEGIN:VTIMEZONE
TZID:America/New_York
BEGIN:STANDARD
TZNAME:EST
DTSTART:20241103T020000
TZOFFSETFROM:-0400
TZOFFSETTO:-0500
RDATE:20251102T020000
END:STANDARD
BEGIN:DAYLIGHT
TZNAME:EDT
DTSTART:20250309T020000
TZOFFSETFROM:-0500
TZOFFSETTO:-0400
RDATE:20260308T020000
END:DAYLIGHT
END:VTIMEZONE
BEGIN:VEVENT
UID:b7cb83f6-01f0-4611-a403-3767d80283d6
DTSTAMP:20260420T124251Z
DESCRIPTION:The Neponset River Watershed Association (NepRWA) and a coaliti
 on of regional partners are excited to announce the return of the Neponset
  River Spring Cleanup on Saturday\, April 26th\, from 9:00 am to 12:00 pm.
  Volunteers will gather and cleanup trash at sites across Canton\, Dorches
 ter\, Hyde Park\, Milton\, Mattapan\, Norwood\, and Quincy.
DTSTART;TZID=America/New_York:20250426T090000
DTEND;TZID=America/New_York:20250426T120000
LOCATION:Canton\, Dorchester\, Hyde Park\, Milton\, Mattapan\, Norwood\, & 
 Quincy
SUMMARY:Neponset River Spring Cleanup (Quincy & surrounding area)
END:VEVENT
END:VCALENDAR
