BEGIN:VCALENDAR
VERSION:2.0
PRODID:-//keepmassbeautiful.org//NONSGML kigkonsult.se iCalcreator 2.30.10/
 /
CALSCALE:GREGORIAN
METHOD:PUBLISH
UID:93bac3c9-fe65-4b8e-8649-31a71bc61b63
X-WR-CALDESC:The Commonwealth of Massachusetts is excited to announce the p
 articipating locations for this year’s 19th annual Park Serve Day happenin
 g on April 26.  What started in 2006 as a day of Stewardship in Massachuse
 tts has grown into an annual event with thousands of participants! \n\nDCR
  holds Park Serve Day annually\, in conjunction with Earth Week\, to provi
 de volunteer opportunities from Nickerson State Park on Cape Cod to Mount 
 Greylock State Reservation in the Berkshires. Volunteers will help clean c
 oastlines\, clear trails\, pick up litter\, plant flowers\, and paint at s
 tate parks across the state\, among other important tasks. This year\, DCR
  will hold over 60 Park Serve Day events at 40 locations across the state.
    \n\n
X-WR-RELCALID:023f4faafe658ad70570cb2aaec880f9
X-WR-TIMEZONE:America/New_York
BEGIN:VTIMEZONE
TZID:America/New_York
BEGIN:STANDARD
TZNAME:EST
DTSTART:20241103T020000
TZOFFSETFROM:-0400
TZOFFSETTO:-0500
RDATE:20251102T020000
END:STANDARD
BEGIN:DAYLIGHT
TZNAME:EDT
DTSTART:20250309T020000
TZOFFSETFROM:-0500
TZOFFSETTO:-0400
RDATE:20260308T020000
END:DAYLIGHT
END:VTIMEZONE
BEGIN:VEVENT
UID:d0a6c407-4538-4e8f-af83-66f5c00c6015
DTSTAMP:20260420T131618Z
DESCRIPTION:The Commonwealth of Massachusetts is excited to announce the pa
 rticipating locations for this year’s 19th annual Park Serve Day happening
  on April 26.  What started in 2006 as a day of Stewardship in Massachuset
 ts has grown into an annual event with thousands of participants! \n\nDCR 
 holds Park Serve Day annually\, in conjunction with Earth Week\, to provid
 e volunteer opportunities from Nickerson State Park on Cape Cod to Mount G
 reylock State Reservation in the Berkshires. Volunteers will help clean co
 astlines\, clear trails\, pick up litter\, plant flowers\, and paint at st
 ate parks across the state\, among other important tasks. This year\, DCR 
 will hold over 60 Park Serve Day events at 40 locations across the state. 
   \n\n
DTSTART;TZID=America/New_York:20250426T060000
DTEND;TZID=America/New_York:20250426T060001
LOCATION:Massachusetts
SUMMARY:Park Serve Day (Statewide)
END:VEVENT
END:VCALENDAR
